{"text_format":"1","workbook":"xlsx","n_sheets":8,"sheets":["Leaderboard","February","March","July & August","September","October","Ten Point Table","Jokers"],"not_rendered":{"charts":0,"images":6,"macros":1,"external_links":0,"defined_names":0,"comments":0,"pivot_tables":0},"unopened":[],"bounds":{"document_bytes":16777216,"sheet_cells":100000,"rows_first":2000,"rows_last":500,"rows_between":2000,"halvings":0,"cell_chars":16384,"cell_head_chars":4096},"cells_cut":0,"cells_raw":0,"read":"whole","date_system":"1900"}

{"sheet":"Leaderboard","index":0,"n_rows":54,"n_cols":9,"rows_kept":54,"cut":false,"hidden":false,"merged":[]}
[]
[]
[]
[]
["No.","Name","Team Name","2020-02-01","2020-03-01","2020-08-01","2020-09-01","2020-10-01","Total Pts"]
[1,"Joseph Kavanagh","Joey's Invincibles",{"$f":"HLOOKUP(B6,February!$I$1:$BE$52,52,FALSE)","v":94},{"$f":"HLOOKUP(B6,March!$I$1:$BE$40,40,FALSE)","v":26},{"$f":"HLOOKUP(B6,'July & August'!$I$1:$BE$58,58,FALSE)","v":88},{"$f":"HLOOKUP(B6,September!$I$1:$BE$42,42,FALSE)","v":77},{"$f":"HLOOKUP(B6,October!$I$1:$BE$48,48,FALSE)","v":17},{"$f":"SUM(D6:H6)","v":302}]
[2,"Andy Dunne","Ballymore Shamrocks",{"$f":"HLOOKUP(B7,February!$I$1:$BE$52,52,FALSE)","v":74},{"$f":"HLOOKUP(B7,March!$I$1:$BE$40,40,FALSE)","v":35},{"$f":"HLOOKUP(B7,'July & August'!$I$1:$BE$58,58,FALSE)","v":71},{"$f":"HLOOKUP(B7,September!$I$1:$BE$42,42,FALSE)","v":103},{"$f":"HLOOKUP(B7,October!$I$1:$BE$48,48,FALSE)","v":15},{"$f":"SUM(D7:H7)","v":298}]
[3,"Keith Ryan","Wearethewanderers",{"$f":"HLOOKUP(B8,February!$I$1:$BE$52,52,FALSE)","v":79},{"$f":"HLOOKUP(B8,March!$I$1:$BE$40,40,FALSE)","v":23},{"$f":"HLOOKUP(B8,'July & August'!$I$1:$BE$58,58,FALSE)","v":95},{"$f":"HLOOKUP(B8,September!$I$1:$BE$42,42,FALSE)","v":59},{"$f":"HLOOKUP(B8,October!$I$1:$BE$48,48,FALSE)","v":22},{"$f":"SUM(D8:H8)","v":278}]
[4,"Gary Donnelly","Cabinteely II",{"$f":"HLOOKUP(B9,February!$I$1:$BE$52,52,FALSE)","v":61},{"$f":"HLOOKUP(B9,March!$I$1:$BE$40,40,FALSE)","v":26},{"$f":"HLOOKUP(B9,'July & August'!$I$1:$BE$58,58,FALSE)","v":86},{"$f":"HLOOKUP(B9,September!$I$1:$BE$42,42,FALSE)","v":84},{"$f":"HLOOKUP(B9,October!$I$1:$BE$48,48,FALSE)","v":15},{"$f":"SUM(D9:H9)","v":272}]
[5,"Joe Turner","The Dairymen of Stradbrook",{"$f":"HLOOKUP(B10,February!$I$1:$BE$52,52,FALSE)","v":89},{"$f":"HLOOKUP(B10,March!$I$1:$BE$40,40,FALSE)","v":26},{"$f":"HLOOKUP(B10,'July & August'!$I$1:$BE$58,58,FALSE)","v":68},{"$f":"HLOOKUP(B10,September!$I$1:$BE$42,42,FALSE)","v":77},{"$f":"HLOOKUP(B10,October!$I$1:$BE$48,48,FALSE)","v":12},{"$f":"SUM(D10:H10)","v":272}]
[6,"Eamon Fox","Culchies United",{"$f":"HLOOKUP(B11,February!$I$1:$BE$52,52,FALSE)","v":82},{"$f":"HLOOKUP(B11,March!$I$1:$BE$40,40,FALSE)","v":28},{"$f":"HLOOKUP(B11,'July & August'!$I$1:$BE$58,58,FALSE)","v":71},{"$f":"HLOOKUP(B11,September!$I$1:$BE$42,42,FALSE)","v":67},{"$f":"HLOOKUP(B11,October!$I$1:$BE$48,48,FALSE)","v":20},{"$f":"SUM(D11:H11)","v":268}]
[7,"Darragh Kenny","Luca Connell CSC",{"$f":"HLOOKUP(B12,February!$I$1:$BE$52,52,FALSE)","v":76},{"$f":"HLOOKUP(B12,March!$I$1:$BE$40,40,FALSE)","v":23},{"$f":"HLOOKUP(B12,'July & August'!$I$1:$BE$58,58,FALSE)","v":95},{"$f":"HLOOKUP(B12,September!$I$1:$BE$42,42,FALSE)","v":59},{"$f":"HLOOKUP(B12,October!$I$1:$BE$48,48,FALSE)","v":12},{"$f":"SUM(D12:H12)","v":265}]
[8,"Niall Carroll","The Yellow Bellies",{"$f":"HLOOKUP(B13,February!$I$1:$BE$52,52,FALSE)","v":81},{"$f":"HLOOKUP(B13,March!$I$1:$BE$40,40,FALSE)","v":33},{"$f":"HLOOKUP(B13,'July & August'!$I$1:$BE$58,58,FALSE)","v":50},{"$f":"HLOOKUP(B13,September!$I$1:$BE$42,42,FALSE)","v":84},{"$f":"HLOOKUP(B13,October!$I$1:$BE$48,48,FALSE)","v":17},{"$f":"SUM(D13:H13)","v":265}]
[9,"Caroline Carroll","Tarzan's 11",{"$f":"HLOOKUP(B14,February!$I$1:$BE$52,52,FALSE)","v":94},{"$f":"HLOOKUP(B14,March!$I$1:$BE$40,40,FALSE)","v":25},{"$f":"HLOOKUP(B14,'July & August'!$I$1:$BE$58,58,FALSE)","v":68},{"$f":"HLOOKUP(B14,September!$I$1:$BE$42,42,FALSE)","v":43},{"$f":"HLOOKUP(B14,October!$I$1:$BE$48,48,FALSE)","v":32},{"$f":"SUM(D14:H14)","v":262}]
[10,"Eoghan Brophy","Tolka Dreamers",{"$f":"HLOOKUP(B15,February!$I$1:$BE$52,52,FALSE)","v":81},{"$f":"HLOOKUP(B15,March!$I$1:$BE$40,40,FALSE)","v":26},{"$f":"HLOOKUP(B15,'July & August'!$I$1:$BE$58,58,FALSE)","v":80},{"$f":"HLOOKUP(B15,September!$I$1:$BE$42,42,FALSE)","v":58},{"$f":"HLOOKUP(B15,October!$I$1:$BE$48,48,FALSE)","v":17},{"$f":"SUM(D15:H15)","v":262}]
[11,"Gary McGurk","Chelfest 2013",{"$f":"HLOOKUP(B16,February!$I$1:$BE$52,52,FALSE)","v":72},{"$f":"HLOOKUP(B16,March!$I$1:$BE$40,40,FALSE)","v":33},{"$f":"HLOOKUP(B16,'July & August'!$I$1:$BE$58,58,FALSE)","v":64},{"$f":"HLOOKUP(B16,September!$I$1:$BE$42,42,FALSE)","v":66},{"$f":"HLOOKUP(B16,October!$I$1:$BE$48,48,FALSE)","v":25},{"$f":"SUM(D16:H16)","v":260}]
[12,"Tom Keane","Hoopshoops",{"$f":"HLOOKUP(B17,February!$I$1:$BE$52,52,FALSE)","v":75},{"$f":"HLOOKUP(B17,March!$I$1:$BE$40,40,FALSE)","v":24},{"$f":"HLOOKUP(B17,'July & August'!$I$1:$BE$58,58,FALSE)","v":71},{"$f":"HLOOKUP(B17,September!$I$1:$BE$42,42,FALSE)","v":74},{"$f":"HLOOKUP(B17,October!$I$1:$BE$48,48,FALSE)","v":12},{"$f":"SUM(D17:H17)","v":256}]
[13,"Jay Thomas","Tallaght Toppers",{"$f":"HLOOKUP(B18,February!$I$1:$BE$52,52,FALSE)","v":71},{"$f":"HLOOKUP(B18,March!$I$1:$BE$40,40,FALSE)","v":23},{"$f":"HLOOKUP(B18,'July & August'!$I$1:$BE$58,58,FALSE)","v":80},{"$f":"HLOOKUP(B18,September!$I$1:$BE$42,42,FALSE)","v":69},{"$f":"HLOOKUP(B18,October!$I$1:$BE$48,48,FALSE)","v":12},{"$f":"SUM(D18:H18)","v":255}]
[14,"Davy Doyle","Whitechurch FC",{"$f":"HLOOKUP(B19,February!$I$1:$BE$52,52,FALSE)","v":68},{"$f":"HLOOKUP(B19,March!$I$1:$BE$40,40,FALSE)","v":28},{"$f":"HLOOKUP(B19,'July & August'!$I$1:$BE$58,58,FALSE)","v":65},{"$f":"HLOOKUP(B19,September!$I$1:$BE$42,42,FALSE)","v":73},{"$f":"HLOOKUP(B19,October!$I$1:$BE$48,48,FALSE)","v":19},{"$f":"SUM(D19:H19)","v":253}]
[15,"Paul Moore","Niall Quinn's Disco Pants",{"$f":"HLOOKUP(B20,February!$I$1:$BE$52,52,FALSE)","v":69},{"$f":"HLOOKUP(B20,March!$I$1:$BE$40,40,FALSE)","v":30},{"$f":"HLOOKUP(B20,'July & August'!$I$1:$BE$58,58,FALSE)","v":56},{"$f":"HLOOKUP(B20,September!$I$1:$BE$42,42,FALSE)","v":73},{"$f":"HLOOKUP(B20,October!$I$1:$BE$48,48,FALSE)","v":25},{"$f":"SUM(D20:H20)","v":253}]
[16,"Trevor Rankin","Trev's Tossers",{"$f":"HLOOKUP(B21,February!$I$1:$BE$52,52,FALSE)","v":61},{"$f":"HLOOKUP(B21,March!$I$1:$BE$40,40,FALSE)","v":25},{"$f":"HLOOKUP(B21,'July & August'!$I$1:$BE$58,58,FALSE)","v":61},{"$f":"HLOOKUP(B21,September!$I$1:$BE$42,42,FALSE)","v":87},{"$f":"HLOOKUP(B21,October!$I$1:$BE$48,48,FALSE)","v":12},{"$f":"SUM(D21:H21)","v":246}]
[17,"Graeme Buckley","Canyoneroes",{"$f":"HLOOKUP(B22,February!$I$1:$BE$52,52,FALSE)","v":44},{"$f":"HLOOKUP(B22,March!$I$1:$BE$40,40,FALSE)","v":25},{"$f":"HLOOKUP(B22,'July & August'!$I$1:$BE$58,58,FALSE)","v":101},{"$f":"HLOOKUP(B22,September!$I$1:$BE$42,42,FALSE)","v":58},{"$f":"HLOOKUP(B22,October!$I$1:$BE$48,48,FALSE)","v":15},{"$f":"SUM(D22:H22)","v":243}]
[18,"Alan Doyle","Shamrock Ravers",{"$f":"HLOOKUP(B23,February!$I$1:$BE$52,52,FALSE)","v":74},{"$f":"HLOOKUP(B23,March!$I$1:$BE$40,40,FALSE)","v":21},{"$f":"HLOOKUP(B23,'July & August'!$I$1:$BE$58,58,FALSE)","v":68},{"$f":"HLOOKUP(B23,September!$I$1:$BE$42,42,FALSE)","v":72},{"$f":"HLOOKUP(B23,October!$I$1:$BE$48,48,FALSE)","v":7},{"$f":"SUM(D23:H23)","v":242}]
[19,"Gary Fitzpatrick","Cabo Ultra's",{"$f":"HLOOKUP(B24,February!$I$1:$BE$52,52,FALSE)","v":72},{"$f":"HLOOKUP(B24,March!$I$1:$BE$40,40,FALSE)","v":23},{"$f":"HLOOKUP(B24,'July & August'!$I$1:$BE$58,58,FALSE)","v":76},{"$f":"HLOOKUP(B24,September!$I$1:$BE$42,42,FALSE)","v":57},{"$f":"HLOOKUP(B24,October!$I$1:$BE$48,48,FALSE)","v":10},{"$f":"SUM(D24:H24)","v":238}]
[20,"Tommy Hamill","Omeath Allstars",{"$f":"HLOOKUP(B25,February!$I$1:$BE$52,52,FALSE)","v":64},{"$f":"HLOOKUP(B25,March!$I$1:$BE$40,40,FALSE)","v":35},{"$f":"HLOOKUP(B25,'July & August'!$I$1:$BE$58,58,FALSE)","v":66},{"$f":"HLOOKUP(B25,September!$I$1:$BE$42,42,FALSE)","v":58},{"$f":"HLOOKUP(B25,October!$I$1:$BE$48,48,FALSE)","v":15},{"$f":"SUM(D25:H25)","v":238}]
[21,"Sean O'Mairtin","EMFA Returns",{"$f":"HLOOKUP(B26,February!$I$1:$BE$52,52,FALSE)","v":65},{"$f":"HLOOKUP(B26,March!$I$1:$BE$40,40,FALSE)","v":31},{"$f":"HLOOKUP(B26,'July & August'!$I$1:$BE$58,58,FALSE)","v":46},{"$f":"HLOOKUP(B26,September!$I$1:$BE$42,42,FALSE)","v":63},{"$f":"HLOOKUP(B26,October!$I$1:$BE$48,48,FALSE)","v":32},{"$f":"SUM(D26:H26)","v":237}]
[22,"Derek McDonald","Super Shels",{"$f":"HLOOKUP(B27,February!$I$1:$BE$52,52,FALSE)","v":58},{"$f":"HLOOKUP(B27,March!$I$1:$BE$40,40,FALSE)","v":19},{"$f":"HLOOKUP(B27,'July & August'!$I$1:$BE$58,58,FALSE)","v":72},{"$f":"HLOOKUP(B27,September!$I$1:$BE$42,42,FALSE)","v":54},{"$f":"HLOOKUP(B27,October!$I$1:$BE$48,48,FALSE)","v":27},{"$f":"SUM(D27:H27)","v":230}]
[23,"Chris Hinchey","Lilywhites",{"$f":"HLOOKUP(B28,February!$I$1:$BE$52,52,FALSE)","v":71},{"$f":"HLOOKUP(B28,March!$I$1:$BE$40,40,FALSE)","v":30},{"$f":"HLOOKUP(B28,'July & August'!$I$1:$BE$58,58,FALSE)","v":73},{"$f":"HLOOKUP(B28,September!$I$1:$BE$42,42,FALSE)","v":43},{"$f":"HLOOKUP(B28,October!$I$1:$BE$48,48,FALSE)","v":12},{"$f":"SUM(D28:H28)","v":229}]
[24,"Derek Kelly","SRFC1725",{"$f":"HLOOKUP(B29,February!$I$1:$BE$52,52,FALSE)","v":79},{"$f":"HLOOKUP(B29,March!$I$1:$BE$40,40,FALSE)","v":24},{"$f":"HLOOKUP(B29,'July & August'!$I$1:$BE$58,58,FALSE)","v":67},{"$f":"HLOOKUP(B29,September!$I$1:$BE$42,42,FALSE)","v":41},{"$f":"HLOOKUP(B29,October!$I$1:$BE$48,48,FALSE)","v":12},{"$f":"SUM(D29:H29)","v":223}]
[25,"David Miley","Dallas Cowboys",{"$f":"HLOOKUP(B30,February!$I$1:$BE$52,52,FALSE)","v":52},{"$f":"HLOOKUP(B30,March!$I$1:$BE$40,40,FALSE)","v":21},{"$f":"HLOOKUP(B30,'July & August'!$I$1:$BE$58,58,FALSE)","v":60},{"$f":"HLOOKUP(B30,September!$I$1:$BE$42,42,FALSE)","v":68},{"$f":"HLOOKUP(B30,October!$I$1:$BE$48,48,FALSE)","v":17},{"$f":"SUM(D30:H30)","v":218}]
[26,"Gearoid McIntyre","Nobber Boys",{"$f":"HLOOKUP(B31,February!$I$1:$BE$52,52,FALSE)","v":67},{"$f":"HLOOKUP(B31,March!$I$1:$BE$40,40,FALSE)","v":33},{"$f":"HLOOKUP(B31,'July & August'!$I$1:$BE$58,58,FALSE)","v":64},{"$f":"HLOOKUP(B31,September!$I$1:$BE$42,42,FALSE)","v":36},{"$f":"HLOOKUP(B31,October!$I$1:$BE$48,48,FALSE)","v":15},{"$f":"SUM(D31:H31)","v":215}]
[27,"Mark Welsh","3rdina2horserace",{"$f":"HLOOKUP(B32,February!$I$1:$BE$52,52,FALSE)","v":55},{"$f":"HLOOKUP(B32,March!$I$1:$BE$40,40,FALSE)","v":26},{"$f":"HLOOKUP(B32,'July & August'!$I$1:$BE$58,58,FALSE)","v":73},{"$f":"HLOOKUP(B32,September!$I$1:$BE$42,42,FALSE)","v":47},{"$f":"HLOOKUP(B32,October!$I$1:$BE$48,48,FALSE)","v":12},{"$f":"SUM(D32:H32)","v":213}]
[28,"Sean Taylor","O'Connor's Touting XI",{"$f":"HLOOKUP(B33,February!$I$1:$BE$52,52,FALSE)","v":49},{"$f":"HLOOKUP(B33,March!$I$1:$BE$40,40,FALSE)","v":25},{"$f":"HLOOKUP(B33,'July & August'!$I$1:$BE$58,58,FALSE)","v":66},{"$f":"HLOOKUP(B33,September!$I$1:$BE$42,42,FALSE)","v":63},{"$f":"HLOOKUP(B33,October!$I$1:$BE$48,48,FALSE)","v":10},{"$f":"SUM(D33:H33)","v":213}]
[29,"Eoghan Farrelly","Definitely Last Chance Saloon",{"$f":"HLOOKUP(B34,February!$I$1:$BE$52,52,FALSE)","v":67},{"$f":"HLOOKUP(B34,March!$I$1:$BE$40,40,FALSE)","v":35},{"$f":"HLOOKUP(B34,'July & August'!$I$1:$BE$58,58,FALSE)","v":56},{"$f":"HLOOKUP(B34,September!$I$1:$BE$42,42,FALSE)","v":53},{"$f":"HLOOKUP(B34,October!$I$1:$BE$48,48,FALSE)","v":0},{"$f":"SUM(D34:H34)","v":211}]
[30,"Gerry Moore","Rovers Are Red",{"$f":"HLOOKUP(B35,February!$I$1:$BE$52,52,FALSE)","v":65},{"$f":"HLOOKUP(B35,March!$I$1:$BE$40,40,FALSE)","v":23},{"$f":"HLOOKUP(B35,'July & August'!$I$1:$BE$58,58,FALSE)","v":81},{"$f":"HLOOKUP(B35,September!$I$1:$BE$42,42,FALSE)","v":32},{"$f":"HLOOKUP(B35,October!$I$1:$BE$48,48,FALSE)","v":10},{"$f":"SUM(D35:H35)","v":211}]
[31,"Aidan Scanlon","Kilflynn Santos",{"$f":"HLOOKUP(B36,February!$I$1:$BE$52,52,FALSE)","v":85},{"$f":"HLOOKUP(B36,March!$I$1:$BE$40,40,FALSE)","v":21},{"$f":"HLOOKUP(B36,'July & August'!$I$1:$BE$58,58,FALSE)","v":41},{"$f":"HLOOKUP(B36,September!$I$1:$BE$42,42,FALSE)","v":51},{"$f":"HLOOKUP(B36,October!$I$1:$BE$48,48,FALSE)","v":12},{"$f":"SUM(D36:H36)","v":210}]
[32,"Joe Behan","Melchester Rovers",{"$f":"HLOOKUP(B37,February!$I$1:$BE$52,52,FALSE)","v":61},{"$f":"HLOOKUP(B37,March!$I$1:$BE$40,40,FALSE)","v":30},{"$f":"HLOOKUP(B37,'July & August'!$I$1:$BE$58,58,FALSE)","v":53},{"$f":"HLOOKUP(B37,September!$I$1:$BE$42,42,FALSE)","v":43},{"$f":"HLOOKUP(B37,October!$I$1:$BE$48,48,FALSE)","v":22},{"$f":"SUM(D37:H37)","v":209}]
[33,"Dean Fletcher","Fletchy's Flyers",{"$f":"HLOOKUP(B38,February!$I$1:$BE$52,52,FALSE)","v":67},{"$f":"HLOOKUP(B38,March!$I$1:$BE$40,40,FALSE)","v":23},{"$f":"HLOOKUP(B38,'July & August'!$I$1:$BE$58,58,FALSE)","v":61},{"$f":"HLOOKUP(B38,September!$I$1:$BE$42,42,FALSE)","v":42},{"$f":"HLOOKUP(B38,October!$I$1:$BE$48,48,FALSE)","v":15},{"$f":"SUM(D38:H38)","v":208}]
[34,"Ciaran O'Hart","Riverchapel Plate",{"$f":"HLOOKUP(B39,February!$I$1:$BE$52,52,FALSE)","v":53},{"$f":"HLOOKUP(B39,March!$I$1:$BE$40,40,FALSE)","v":21},{"$f":"HLOOKUP(B39,'July & August'!$I$1:$BE$58,58,FALSE)","v":62},{"$f":"HLOOKUP(B39,September!$I$1:$BE$42,42,FALSE)","v":63},{"$f":"HLOOKUP(B39,October!$I$1:$BE$48,48,FALSE)","v":5},{"$f":"SUM(D39:H39)","v":204}]
[35,"Fiachra O'Brolachain","Trailerpark Rovers",{"$f":"HLOOKUP(B40,February!$I$1:$BE$52,52,FALSE)","v":69},{"$f":"HLOOKUP(B40,March!$I$1:$BE$40,40,FALSE)","v":21},{"$f":"HLOOKUP(B40,'July & August'!$I$1:$BE$58,58,FALSE)","v":48},{"$f":"HLOOKUP(B40,September!$I$1:$BE$42,42,FALSE)","v":47},{"$f":"HLOOKUP(B40,October!$I$1:$BE$48,48,FALSE)","v":17},{"$f":"SUM(D40:H40)","v":202}]
[36,"Callum Dunne","Derry Girls",{"$f":"HLOOKUP(B41,February!$I$1:$BE$52,52,FALSE)","v":68},{"$f":"HLOOKUP(B41,March!$I$1:$BE$40,40,FALSE)","v":26},{"$f":"HLOOKUP(B41,'July & August'!$I$1:$BE$58,58,FALSE)","v":59},{"$f":"HLOOKUP(B41,September!$I$1:$BE$42,42,FALSE)","v":33},{"$f":"HLOOKUP(B41,October!$I$1:$BE$48,48,FALSE)","v":12},{"$f":"SUM(D41:H41)","v":198}]
[37,"Gerry Draper","Everton10",{"$f":"HLOOKUP(B42,February!$I$1:$BE$52,52,FALSE)","v":64},{"$f":"HLOOKUP(B42,March!$I$1:$BE$40,40,FALSE)","v":25},{"$f":"HLOOKUP(B42,'July & August'!$I$1:$BE$58,58,FALSE)","v":46},{"$f":"HLOOKUP(B42,September!$I$1:$BE$42,42,FALSE)","v":53},{"$f":"HLOOKUP(B42,October!$I$1:$BE$48,48,FALSE)","v":10},{"$f":"SUM(D42:H42)","v":198}]
[38,"John Brophy","We're Not Shels",{"$f":"HLOOKUP(B43,February!$I$1:$BE$52,52,FALSE)","v":66},{"$f":"HLOOKUP(B43,March!$I$1:$BE$40,40,FALSE)","v":23},{"$f":"HLOOKUP(B43,'July & August'!$I$1:$BE$58,58,FALSE)","v":31},{"$f":"HLOOKUP(B43,September!$I$1:$BE$42,42,FALSE)","v":56},{"$f":"HLOOKUP(B43,October!$I$1:$BE$48,48,FALSE)","v":22},{"$f":"SUM(D43:H43)","v":198}]
[39,"Gary Keating","Brohemians",{"$f":"HLOOKUP(B44,February!$I$1:$BE$52,52,FALSE)","v":53},{"$f":"HLOOKUP(B44,March!$I$1:$BE$40,40,FALSE)","v":21},{"$f":"HLOOKUP(B44,'July & August'!$I$1:$BE$58,58,FALSE)","v":64},{"$f":"HLOOKUP(B44,September!$I$1:$BE$42,42,FALSE)","v":43},{"$f":"HLOOKUP(B44,October!$I$1:$BE$48,48,FALSE)","v":15},{"$f":"SUM(D44:H44)","v":196}]
[40,"Richard Johnston","Mayo For Sam",{"$f":"HLOOKUP(B45,February!$I$1:$BE$52,52,FALSE)","v":79},{"$f":"HLOOKUP(B45,March!$I$1:$BE$40,40,FALSE)","v":27},{"$f":"HLOOKUP(B45,'July & August'!$I$1:$BE$58,58,FALSE)","v":66},{"$f":"HLOOKUP(B45,September!$I$1:$BE$42,42,FALSE)","v":11},{"$f":"HLOOKUP(B45,October!$I$1:$BE$48,48,FALSE)","v":12},{"$f":"SUM(D45:H45)","v":195}]
[41,"Kieran Harnett","Limerick United",{"$f":"HLOOKUP(B46,February!$I$1:$BE$52,52,FALSE)","v":72},{"$f":"HLOOKUP(B46,March!$I$1:$BE$40,40,FALSE)","v":21},{"$f":"HLOOKUP(B46,'July & August'!$I$1:$BE$58,58,FALSE)","v":70},{"$f":"HLOOKUP(B46,September!$I$1:$BE$42,42,FALSE)","v":13},{"$f":"HLOOKUP(B46,October!$I$1:$BE$48,48,FALSE)","v":2},{"$f":"SUM(D46:H46)","v":178}]
[42,"David Moran","Wrightsaidfred",{"$f":"HLOOKUP(B47,February!$I$1:$BE$52,52,FALSE)","v":46},{"$f":"HLOOKUP(B47,March!$I$1:$BE$40,40,FALSE)","v":19},{"$f":"HLOOKUP(B47,'July & August'!$I$1:$BE$58,58,FALSE)","v":74},{"$f":"HLOOKUP(B47,September!$I$1:$BE$42,42,FALSE)","v":37},{"$f":"HLOOKUP(B47,October!$I$1:$BE$48,48,FALSE)","v":0},{"$f":"SUM(D47:H47)","v":176}]
[43,"Josh Tobin","Team1",{"$f":"HLOOKUP(B48,February!$I$1:$BE$52,52,FALSE)","v":57},{"$f":"HLOOKUP(B48,March!$I$1:$BE$40,40,FALSE)","v":21},{"$f":"HLOOKUP(B48,'July & August'!$I$1:$BE$58,58,FALSE)","v":53},{"$f":"HLOOKUP(B48,September!$I$1:$BE$42,42,FALSE)","v":20},{"$f":"HLOOKUP(B48,October!$I$1:$BE$48,48,FALSE)","v":5},{"$f":"SUM(D48:H48)","v":156}]
[44,"Ian O'Reilly","Limerick City United Treaty 37 FC",{"$f":"HLOOKUP(B49,February!$I$1:$BE$52,52,FALSE)","v":73},{"$f":"HLOOKUP(B49,March!$I$1:$BE$40,40,FALSE)","v":26},{"$f":"HLOOKUP(B49,'July & August'!$I$1:$BE$58,58,FALSE)","v":24},{"$f":"HLOOKUP(B49,September!$I$1:$BE$42,42,FALSE)","v":8},{"$f":"HLOOKUP(B49,October!$I$1:$BE$48,48,FALSE)","v":0},{"$f":"SUM(D49:H49)","v":131}]
[45,"Patrick Dempsey","Paddser's Whackers",{"$f":"HLOOKUP(B50,February!$I$1:$BE$52,52,FALSE)","v":42},{"$f":"HLOOKUP(B50,March!$I$1:$BE$40,40,FALSE)","v":23},{"$f":"HLOOKUP(B50,'July & August'!$I$1:$BE$58,58,FALSE)","v":41},{"$f":"HLOOKUP(B50,September!$I$1:$BE$42,42,FALSE)","v":2},{"$f":"HLOOKUP(B50,October!$I$1:$BE$48,48,FALSE)","v":0},{"$f":"SUM(D50:H50)","v":108}]
[46,"Breifne Earley","Leitrim Villa",{"$f":"HLOOKUP(B51,February!$I$1:$BE$52,52,FALSE)","v":46},{"$f":"HLOOKUP(B51,March!$I$1:$BE$40,40,FALSE)","v":19},{"$f":"HLOOKUP(B51,'July & August'!$I$1:$BE$58,58,FALSE)","v":32},{"$f":"HLOOKUP(B51,September!$I$1:$BE$42,42,FALSE)","v":2},{"$f":"HLOOKUP(B51,October!$I$1:$BE$48,48,FALSE)","v":0},{"$f":"SUM(D51:H51)","v":99}]
[47,"Sean Keller","The Boys From Dalymount",{"$f":"HLOOKUP(B52,February!$I$1:$BE$52,52,FALSE)","v":47},{"$f":"HLOOKUP(B52,March!$I$1:$BE$40,40,FALSE)","v":12},{"$f":"HLOOKUP(B52,'July & August'!$I$1:$BE$58,58,FALSE)","v":25},{"$f":"HLOOKUP(B52,September!$I$1:$BE$42,42,FALSE)","v":8},{"$f":"HLOOKUP(B52,October!$I$1:$BE$48,48,FALSE)","v":0},{"$f":"SUM(D52:H52)","v":92}]
[48,"Seamus McGowan","Bit O'Red",{"$f":"HLOOKUP(B53,February!$I$1:$BE$52,52,FALSE)","v":48},{"$f":"HLOOKUP(B53,March!$I$1:$BE$40,40,FALSE)","v":24},{"$f":"HLOOKUP(B53,'July & August'!$I$1:$BE$58,58,FALSE)","v":11},{"$f":"HLOOKUP(B53,September!$I$1:$BE$42,42,FALSE)","v":2},{"$f":"HLOOKUP(B53,October!$I$1:$BE$48,48,FALSE)","v":0},{"$f":"SUM(D53:H53)","v":85}]
[49,"Hugh Keller","Hugh Jarse FC",{"$f":"HLOOKUP(B54,February!$I$1:$BE$52,52,FALSE)","v":43},{"$f":"HLOOKUP(B54,March!$I$1:$BE$40,40,FALSE)","v":6},{"$f":"HLOOKUP(B54,'July & August'!$I$1:$BE$58,58,FALSE)","v":6},{"$f":"HLOOKUP(B54,September!$I$1:$BE$42,42,FALSE)","v":4},{"$f":"HLOOKUP(B54,October!$I$1:$BE$48,48,FALSE)","v":0},{"$f":"SUM(D54:H54)","v":59}]

{"sheet":"February","index":1,"n_rows":54,"n_cols":57,"rows_kept":54,"cut":false,"hidden":false,"merged":[[1,2,1,5]]}
[null,null,null,null,null,null,null,null,"Aidan Scanlon","Alan Doyle","Andy Dunne","Breifne Earley","Callum Dunne","Caroline Carroll","Chris Hinchey","Ciaran O'Hart","Darragh Kenny","David Miley","David Moran","Davy Doyle","Dean Fletcher","Derek Kelly","Derek McDonald","Eamon Fox","Eoghan Brophy","Eoghan Farrelly","Fiachra O'Brolachain","Gary Donnelly","Gary Keating","Gary Fitzpatrick","Gary McGurk","Gearoid McIntyre","Gerry Draper","Gerry Moore","Graeme Buckley","Hugh Keller","Ian O'Reilly","Jay Thomas","Joe Behan","Joe Turner","John Brophy","Joseph Kavanagh","Josh Tobin","Keith Ryan","Kieran Harnett","Mark Welsh","Niall Carroll","Patrick Dempsey","Paul Moore","Richard Johnston","Seamus McGowan","Sean Keller","Sean O'Mairtin","Sean Taylor","Tom Keane","Tommy Hamill","Trevor Rankin"]
["Day","Date","Teams",null,null,null,"Time"]
["Fri","2020-02-14","Cork City",0,1,"Shelbourne","19:45:00",null,5,0,0,0,0,0,0,0,5,0,5,0,0,0,0,0,0,0,0,0,10,0,0,10,0,5,0,0,0,5,0,0,5,10,0,5,0,"-",0,0,0,0,0,0,0,5,"-",0,0]
["Fri","2020-02-14","Dundalk",1,0,"Derry City","19:45:00",null,5,5,5,5,5,10,5,5,5,5,5,5,5,5,5,5,5,5,5,5,5,5,5,5,5,0,5,5,5,0,5,5,5,5,5,5,5,"-",10,5,5,5,5,5,5,5,"-",5,5]
["Fri","2020-02-14","St Patrick's Athletic",0,1,"Waterford","19:45:00",null,0,0,5,0,0,0,0,0,0,0,0,0,0,0,0,0,0,0,0,0,0,0,0,0,0,0,0,0,0,0,0,0,0,0,0,0,0,"-",0,0,0,0,0,0,0,0,"-",0,0]
["Fri","2020-02-14","Finn Harps",1,0,"Sligo Rovers","20:00:00",null,0,0,5,5,0,0,5,10,5,0,0,0,0,10,0,0,0,0,0,0,0,5,0,0,0,0,0,5,0,0,0,10,0,0,0,0,10,"-",10,0,0,5,0,0,10,0,"-",0,0]
["Sat","2020-02-15","Bohemians",0,1,"Shamrock Rovers","14:00:00",null,5,5,5,0,0,5,5,0,5,0,0,5,5,10,0,10,0,5,5,5,0,0,0,0,0,5,5,0,5,5,0,0,5,5,10,5,0,"-",0,0,0,5,0,0,0,0,5,0,0]
["Fri","2020-02-21","Derry City",1,1,"Finn Harps","19:45:00",null,0,10,0,0,0,0,0,0,0,0,0,0,0,0,0,0,10,0,0,0,0,0,0,10,10,0,0,0,0,0,0,0,0,0,0,0,0,0,0,0,10,0,0,0,0,0,0,0,0]
["Fri","2020-02-21","Shelbourne",1,2,"Dundalk","19:45:00",null,10,10,10,0,10,10,5,0,10,10,10,5,5,5,0,5,5,5,5,0,5,10,5,5,0,5,0,0,10,5,5,5,0,5,5,5,5,5,5,5,5,5,5,5,10,5,10,5,10]
["Fri","2020-02-21","Sligo Rovers",0,2,"St Patrick's Athletic","19:45:00",null,5,0,5,0,0,0,10,0,0,0,0,5,5,5,0,5,5,5,0,0,0,0,0,5,0,5,0,0,0,0,0,0,5,5,0,0,10,0,0,0,0,0,0,0,5,0,0,0,0]
["Fri","2020-02-21","Waterford",0,2,"Bohemians","19:45:00",null,10,0,0,0,5,0,0,10,0,0,5,0,0,0,0,5,0,5,0,10,5,5,5,0,0,0,0,0,5,0,0,5,0,5,0,0,0,5,0,0,5,5,0,0,0,0,5,5,0]
["Fri","2020-02-21","Shamrock Rovers",6,0,"Cork City","20:00:00",null,5,5,5,5,5,5,5,5,5,5,0,5,5,5,5,5,5,5,5,5,5,5,5,5,5,5,5,5,5,5,5,5,5,5,5,5,5,5,5,5,5,5,5,5,5,5,5,5,5]
["Mon","2020-02-24","Waterford",0,2,"Shamrock Rovers","19:45:00",null,5,5,5,0,0,10,5,10,10,5,0,10,10,5,5,10,10,5,10,0,0,10,10,5,5,5,0,0,5,10,10,10,0,10,10,10,0,10,5,0,10,10,0,5,5,5,10,5,5]
["Mon","2020-02-24","Bohemians",2,0,"Sligo Rovers","19:45:00",null,10,5,5,10,10,10,10,5,5,5,5,5,10,10,5,10,5,5,5,5,5,10,10,5,5,5,5,5,10,5,5,10,10,10,0,10,10,5,10,5,0,5,0,5,5,0,10,5,10]
["Mon","2020-02-24","Dundalk",3,0,"Cork City","19:45:00",null,5,5,5,5,5,10,5,0,5,0,5,5,5,5,5,10,5,10,10,5,10,10,5,5,5,10,5,5,10,10,5,10,10,5,5,10,5,10,5,5,10,5,5,5,5,5,5,5,5]
["Fri","2020-02-28","Cork City",1,0,"Finn Harps","19:45:00",null,5,0,5,0,5,0,0,0,0,0,0,0,0,5,0,0,0,0,0,5,0,0,5,0,5,10,0,5,0,0,0,0,0,10,0,0,0,0,10,0,0,5,5,10,0,0,5,10,0]
["Fri","2020-02-28","Derry City",2,0,"Bohemians","19:45:00",null,0,10,0,0,5,5,0,0,0,0,0,0,5,0,5,5,5,5,5,5,0,0,0,0,5,0,5,5,0,0,5,5,0,0,0,5,5,0,0,0,0,10,5,0,5,5,0,5,5]
["Fri","2020-02-28","Shelbourne",1,0,"St Patrick's Athletic","19:45:00",null,0,0,0,5,5,10,0,0,5,5,5,0,0,0,10,0,10,0,0,5,0,0,10,0,0,0,0,"-",5,5,0,5,5,0,0,0,0,0,0,0,5,10,5,5,0,0,5,0,0]
["Fri","2020-02-28","Shamrock Rovers",3,2,"Dundalk","19:45:00",null,5,0,0,5,5,5,0,0,0,5,0,5,0,0,10,0,0,0,5,5,0,0,0,0,5,0,0,"-",5,5,5,5,0,5,5,5,5,5,5,5,0,0,5,0,0,0,5,0,0]
[]
["Goalscorers"]
["Aaron Greene - Shamrock Rovers",null,null,{"$f":"COUNT(H22:DK22)","v":26},{"$f":"1+0+0+0","v":1},null,null,null,null,{"$f":"2*$E22","v":2},{"$f":"2*$E22","v":2},null,null,null,null,{"$f":"2*$E22","v":2},{"$f":"2*$E22","v":2},null,null,{"$f":"2*$E22","v":2},null,null,{"$f":"2*$E22","v":2},null,null,{"$f":"2*$E22","v":2},{"$f":"2*$E22","v":2},null,{"$f":"2*$E22","v":2},null,{"$f":"2*$E22","v":2},{"$f":"2*$E22","v":2},{"$f":"2*$E22","v":2},null,{"$f":"2*$E22","v":2},null,{"$f":"2*$E22","v":2},{"$f":"2*$E22","v":2},null,{"$f":"2*$E22","v":2},null,{"$f":"2*$E22","v":2},null,{"$f":"2*$E22","v":2},null,{"$f":"2*$E22-2","v":0},{"$f":"2*$E22","v":2},null,{"$f":"2*$E22","v":2},null,null,{"$f":"2*$E22","v":2},null,{"$f":"2*$E22","v":2},{"$f":"2*$E22","v":2},{"$f":"2*$E22","v":2},{"$f":"2*$E22","v":2}]
["Aaron McEneff - Shamrock Rovers",null,null,8,{"$f":"0+0+0+0","v":0},null,null,null,null,null,null,null,{"$f":"2*$E23","v":0},{"$f":"2*$E23","v":0},null,null,null,{"$f":"2*$E23","v":0},null,null,null,null,null,null,null,{"$f":"2*$E23","v":0},null,{"$f":"2*$E23","v":0},null,null,null,null,null,{"$f":"2*$E23","v":0},null,null,null,null,null,null,null,null,null,{"$f":"2*$E23","v":0},null,null,null,null,null,{"$f":"2*$E23","v":0}]
["Daniel Kelly - Dundalk",null,null,7,{"$f":"0+0+0+0","v":0},null,null,null,null,{"$f":"2*$E24","v":0},null,{"$f":"2*$E24","v":0},{"$f":"2*$E24","v":0},null,null,null,null,null,{"$f":"2*$E24","v":0},null,null,null,null,null,null,null,null,null,null,null,null,{"$f":"2*$E24","v":0},null,null,null,null,null,null,null,null,null,null,null,null,null,{"$f":"2*$E24","v":0},null,null,null,null,null,{"$f":"2*$E24","v":0}]
["Dinny Corcoran - Bohemians",null,null,23,{"$f":"0+0+0+0","v":0},null,null,null,null,null,null,null,null,null,null,{"$f":"2*$E25","v":0},null,{"$f":"2*$E25","v":0},{"$f":"2*$E25","v":0},null,{"$f":"2*$E25","v":0},{"$f":"2*$E25","v":0},null,{"$f":"2*$E25","v":0},null,null,{"$f":"2*$E25","v":0},{"$f":"2*$E25","v":0},{"$f":"2*$E25","v":0},{"$f":"2*$E25","v":0},{"$f":"2*$E25","v":0},null,null,{"$f":"2*$E25","v":0},null,{"$f":"2*$E25","v":0},{"$f":"2*$E25","v":0},null,null,{"$f":"2*$E25","v":0},null,{"$f":"2*$E25","v":0},{"$f":"2*$E25","v":0},null,null,null,null,{"$f":"2*$E25","v":0},null,{"$f":"2*$E25","v":0},{"$f":"2*$E25","v":0},{"$f":"2*$E25","v":0},{"$f":"2*$E25","v":0},null,{"$f":"2*$E25","v":0}]
["Graham Cummins - Waterford",null,null,2,{"$f":"0+0+0","v":0},null,null,null,{"$f":"2*$E26","v":0},null,null,{"$f":"2*$E26","v":0}]
["Jack Byrne - Shamrock Rovers",null,null,11,{"$f":"0+1+0+1","v":2},null,null,null,{"$f":"2*$E27","v":4},null,null,null,{"$f":"2*$E27","v":4},{"$f":"2*$E27","v":4},{"$f":"2*$E27","v":4},null,null,null,null,{"$f":"2*$E27","v":4},null,null,{"$f":"2*$E27","v":4},null,null,null,null,null,null,null,null,null,null,null,null,null,null,null,{"$f":"2*$E27","v":4},null,{"$f":"2*$E27","v":4},null,null,null,{"$f":"2*$E27","v":4},null,null,null,null,null,null,null,{"$f":"2*$E27","v":4},null,null,null,{"$f":"2*$E27","v":4}]
["Jaze Kabia - Shelbourne",null,null,3,{"$f":"0+0+1","v":1},null,null,null,null,null,null,null,null,null,null,null,null,null,null,null,null,null,{"$f":"2*$E28","v":2},null,{"$f":"2*$E28","v":2},null,null,null,null,null,null,null,null,null,null,null,null,null,null,null,{"$f":"2*$E28","v":2}]
["Michael Duffy - Dundalk",null,null,21,{"$f":"0+0+1+0","v":1},null,null,null,null,null,{"$f":"2*$E29","v":2},{"$f":"2*$E29","v":2},null,null,{"$f":"2*$E29","v":2},{"$f":"2*$E29","v":2},{"$f":"2*$E29","v":2},null,null,null,{"$f":"2*$E29","v":2},null,null,{"$f":"2*$E29","v":2},{"$f":"2*$E29","v":2},null,null,null,null,{"$f":"2*$E29","v":2},null,null,{"$f":"2*$E29","v":2},null,{"$f":"2*$E29","v":2},{"$f":"2*$E29","v":2},null,2,2,null,null,null,null,null,null,null,{"$f":"2*$E29","v":2},2,2,null,{"$f":"2*$E29","v":2},null,null,{"$f":"2*$E29","v":2},{"$f":"2*$E29","v":2},{"$f":"2*$E29","v":2}]
["Patrick Hoban - Dundalk",null,null,41,{"$f":"0+1+1+1","v":3},null,null,null,{"$f":"2*$E30","v":6},{"$f":"2*$E30","v":6},{"$f":"2*$E30","v":6},null,null,{"$f":"2*$E30","v":6},{"$f":"2*$E30","v":6},null,{"$f":"2*$E30","v":6},{"$f":"2*$E30","v":6},{"$f":"2*$E30","v":6},{"$f":"2*$E30","v":6},{"$f":"2*$E30","v":6},{"$f":"2*$E30","v":6},null,{"$f":"2*$E30","v":6},{"$f":"2*$E30","v":6},{"$f":"2*$E30","v":6},{"$f":"2*$E30","v":6},{"$f":"2*$E30","v":6},{"$f":"2*$E30","v":6},{"$f":"2*$E30","v":6},{"$f":"2*$E30","v":6},{"$f":"2*$E30","v":6},{"$f":"2*$E30","v":6},{"$f":"2*$E30","v":6},6,{"$f":"2*$E30","v":6},{"$f":"2*$E30","v":6},6,6,{"$f":"2*$E30","v":6},6,6,6,6,6,{"$f":"2*$E30","v":6},6,6,6,null,null,null,{"$f":"2*$E30","v":6},{"$f":"2*$E30","v":6},null,{"$f":"2*$E30","v":6},{"$f":"2*$E30","v":6}]
["Walter Figueira - Derry City",null,null,5,{"$f":"0+0+1","v":1},null,null,null,null,null,null,null,null,null,null,null,null,null,null,null,null,{"$f":"2*$E31","v":2},null,null,null,null,null,null,null,null,null,null,null,null,null,null,null,null,null,null,null,null,{"$f":"2*$E31","v":2},null,{"$f":"2*$E31","v":2},null,null,null,null,{"$f":"2*$E31","v":2},{"$f":"2*$E31","v":2}]
[]
["Golden Gloves"]
["Alan Mannus - Shamrock Rovers",null,null,{"$f":"COUNT(H34:DK34)","v":14},{"$f":"1+1+1+0","v":3},null,null,null,null,{"$f":"2*$E34","v":6},null,null,null,null,null,null,{"$f":"2*$E34","v":6},{"$f":"2*$E34","v":6},null,{"$f":"2*$E34","v":6},null,{"$f":"2*$E34","v":6},null,null,{"$f":"2*$E34","v":6},null,{"$f":"2*$E34","v":6},null,null,null,null,null,null,null,null,null,null,{"$f":"2*$E34","v":6},null,{"$f":"2*$E34","v":6},null,{"$f":"2*$E34","v":6},null,{"$f":"2*$E34","v":6},null,{"$f":"2*$E34-2","v":4},{"$f":"2*$E34","v":6},null,null,null,null,null,null,null,{"$f":"2*$E34","v":6}]
["Conor Kearns - St Patrick's Athletic",null,null,{"$f":"COUNT(H35:DK35)","v":1},{"$f":"0+0+0","v":0},null,null,null,{"$f":"2*$E35","v":0}]
["Gary Rogers - Dundalk",null,null,{"$f":"COUNT(H36:DK36)","v":24},{"$f":"1+0+1+0","v":2},null,null,null,null,null,{"$f":"2*$E36","v":4},4,4,4,4,4,null,null,null,null,{"$f":"2*$E36","v":4},null,null,{"$f":"2*$E36","v":4},null,{"$f":"2*$E36","v":4},null,null,null,{"$f":"2*$E36","v":4},4,4,4,4,4,null,null,null,{"$f":"2*$E36","v":4},null,{"$f":"2*$E36","v":4},null,{"$f":"2*$E36","v":4},null,null,null,null,{"$f":"2*$E36","v":4},{"$f":"2*$E36","v":4},null,{"$f":"2*$E36","v":4},null,null,{"$f":"2*$E36","v":4},null,{"$f":"2*$E36","v":4},{"$f":"2*$E36","v":4}]
["James Talbot - Bohemians",null,null,{"$f":"COUNT(H37:DK37)","v":9},{"$f":"0+0+0+0","v":0},null,null,null,null,null,null,null,null,null,null,null,null,null,{"$f":"2*$E37","v":0},null,null,null,{"$f":"2*$E37","v":0},null,null,null,null,{"$f":"2*$E37","v":0},{"$f":"2*$E37","v":0},null,null,null,null,null,null,0,{"$f":"2*$E37","v":0},null,null,null,null,null,null,null,{"$f":"2*$E37","v":0},null,null,null,null,null,null,{"$f":"2*$E37","v":0},{"$f":"2*$E37","v":0}]
["Peter Cherrie - Derry City",null,null,{"$f":"COUNT(H38:DK38)","v":1},{"$f":"0+0+1","v":1},null,null,null,null,null,null,null,null,null,null,null,null,null,null,null,null,null,null,null,null,null,null,null,null,null,null,null,null,null,null,null,null,null,null,null,null,null,null,null,null,null,null,null,null,{"$f":"2*$E38","v":2}]
[]
["Sack Race"]
["Alan Reynolds - Waterford",null,null,{"$f":"COUNT(H41:DK41)","v":12},null,null,null,null,null,null,null,null,null,{"$f":"15*$E41","v":0},null,null,{"$f":"15*$E41","v":0},null,{"$f":"15*$E41","v":0},null,null,null,{"$f":"15*$E41","v":0},null,{"$f":"15*$E41","v":0},null,null,{"$f":"15*$E41","v":0},{"$f":"15*$E41","v":0},{"$f":"15*$E41","v":0},null,null,null,null,null,null,null,{"$f":"15*$E41","v":0},null,null,null,null,null,{"$f":"15*$E41","v":0},null,null,null,{"$f":"15*$E41","v":0},null,null,null,null,null,null,null,{"$f":"15*$E41","v":0}]
["Declan Devine - Derry City",null,null,3,null,null,null,null,{"$f":"15*$E42","v":0},null,null,null,null,null,null,null,null,{"$f":"15*$E42","v":0},null,null,null,null,null,null,null,null,null,null,null,null,null,null,null,null,null,null,null,null,null,null,null,null,{"$f":"15*$E42","v":0}]
["Ian Morris - Shelbourne",null,null,4,null,null,null,null,null,null,null,null,null,null,{"$f":"15*$E43","v":0},null,null,null,null,null,{"$f":"15*$E43","v":0},null,null,null,null,null,null,null,null,null,null,null,null,null,{"$f":"15*$E43","v":0},null,null,null,null,null,null,null,null,null,{"$f":"15*$E43","v":0}]
["Keith Long - Bohemians",null,null,1,null,null,null,null,null,null,null,null,null,null,null,null,null,null,null,null,null,null,null,null,null,null,null,null,null,null,null,null,null,null,null,null,null,null,{"$f":"15*$E44","v":0}]
["Liam Buckley - Sligo Rovers",null,null,5,null,null,null,null,null,null,{"$f":"15*$E45","v":0},{"$f":"15*$E45","v":0},null,null,null,null,null,null,null,null,null,{"$f":"15*$E45","v":0},null,null,null,null,null,null,null,null,null,null,null,null,null,null,null,null,null,null,null,null,null,null,null,{"$f":"15*$E45","v":0},null,null,null,null,null,null,{"$f":"15*$E45","v":0}]
["Neal Fenn - Cork City",null,null,14,null,null,null,null,null,{"$f":"15*$E46","v":0},null,null,{"$f":"15*$E46","v":0},null,null,{"$f":"15*$E46","v":0},null,null,null,null,null,null,null,{"$f":"15*$E46","v":0},null,{"$f":"15*$E46","v":0},{"$f":"15*$E46","v":0},null,null,null,{"$f":"15*$E46","v":0},{"$f":"15*$E46","v":0},null,null,null,null,{"$f":"15*$E46","v":0},null,null,null,null,{"$f":"15*$E46","v":0},null,null,null,null,{"$f":"15*$E46","v":0},null,null,null,{"$f":"15*$E46","v":0},null,null,{"$f":"15*$E46","v":0},null,null,{"$f":"15*$E46","v":0}]
["Ollie Horgan - Finn Harps",null,null,7,null,null,null,null,null,null,null,null,null,null,null,null,null,null,null,{"$f":"15*$E47","v":0},null,null,null,null,null,null,null,null,null,null,null,null,{"$f":"15*$E47","v":0},{"$f":"15*$E47","v":0},null,null,null,null,null,{"$f":"15*$E47","v":0},{"$f":"15*$E47","v":0},null,null,null,null,null,null,null,{"$f":"15*$E47","v":0},null,null,{"$f":"15*$E47","v":0}]
["Stephen Bradley - Shamrock Rovers",null,null,0]
["Stephen McDonnell - St Patrick's Athletic",null,null,2,null,null,null,null,null,null,null,null,null,null,null,null,null,null,null,null,null,null,null,null,null,null,null,null,null,null,null,null,null,null,null,{"$f":"15*$E49","v":0},null,null,null,null,null,null,null,null,null,null,null,null,null,null,null,null,null,null,{"$f":"15*$E49","v":0}]
["Vinny Perth - Dundalk",null,null,1,null,null,null,null,null,null,null,null,null,null,null,null,null,null,null,null,null,null,null,null,null,null,null,null,null,null,null,null,null,null,null,null,null,null,null,null,null,null,null,null,null,null,null,null,null,{"$f":"15*$E50","v":0}]
[]
["Grand Total - February",null,null,null,null,null,null,null,{"$f":"SUM(I$3:I51)","v":85},{"$f":"SUM(J$3:J51)","v":74},{"$f":"SUM(K$3:K51)","v":74},{"$f":"SUM(L$3:L51)","v":46},{"$f":"SUM(M$3:M51)","v":68},{"$f":"SUM(N$3:N51)","v":94},{"$f":"SUM(O$3:O51)","v":71},{"$f":"SUM(P$3:P51)","v":53},{"$f":"SUM(Q$3:Q51)","v":76},{"$f":"SUM(R$3:R51)","v":52},{"$f":"SUM(S$3:S51)","v":46},{"$f":"SUM(T$3:T51)","v":68},{"$f":"SUM(U$3:U51)","v":67},{"$f":"SUM(V$3:V51)","v":79},{"$f":"SUM(W$3:W51)","v":58},{"$f":"SUM(X$3:X51)","v":82},{"$f":"SUM(Y$3:Y51)","v":81},{"$f":"SUM(Z$3:Z51)","v":67},{"$f":"SUM(AA$3:AA51)","v":69},{"$f":"SUM(AB$3:AB51)","v":61},{"$f":"SUM(AC$3:AC51)","v":53},{"$f":"SUM(AD$3:AD51)","v":72},{"$f":"SUM(AE$3:AE51)","v":72},{"$f":"SUM(AF$3:AF51)","v":67},{"$f":"SUM(AG$3:AG51)","v":64},{"$f":"SUM(AH$3:AH51)","v":65},{"$f":"SUM(AI$3:AI51)","v":44},{"$f":"SUM(AJ$3:AJ51)","v":43},{"$f":"SUM(AK$3:AK51)","v":73},{"$f":"SUM(AL$3:AL51)","v":71},{"$f":"SUM(AM$3:AM51)","v":61},{"$f":"SUM(AN$3:AN51)","v":89},{"$f":"SUM(AO$3:AO51)","v":66},{"$f":"SUM(AP$3:AP51)","v":94},{"$f":"SUM(AQ$3:AQ51)","v":57},{"$f":"SUM(AR$3:AR51)","v":79},{"$f":"SUM(AS$3:AS51)","v":72},{"$f":"SUM(AT$3:AT51)","v":55},{"$f":"SUM(AU$3:AU51)","v":81},{"$f":"SUM(AV$3:AV51)","v":42},{"$f":"SUM(AW$3:AW51)","v":69},{"$f":"SUM(AX$3:AX51)","v":79},{"$f":"SUM(AY$3:AY51)","v":48},{"$f":"SUM(AZ$3:AZ51)","v":47},{"$f":"SUM(BA$3:BA51)","v":65},{"$f":"SUM(BB$3:BB51)","v":49},{"$f":"SUM(BC$3:BC51)","v":75},{"$f":"SUM(BD$3:BD51)","v":64},{"$f":"SUM(BE$3:BE51)","v":61}]
[]
["Ten Pointers",null,null,null,null,null,null,null,{"$f":"COUNTIF(I3:I19,10)","v":3},3,1,1,2,6,2,3,2,1,1,1,2,3,2,4,3,1,2,1,2,4,3,2,1,2,0,0,3,2,1,4,{"$f":"COUNTIF(AO3:AO19,10)","v":2},4,2,3,3,2,4,0,3,3,0,1,2,0,3,1,2]

{"sheet":"March","index":2,"n_rows":42,"n_cols":57,"rows_kept":42,"cut":false,"hidden":false,"merged":[[1,2,1,5]]}
[null,null,null,null,null,null,null,null,"Aidan Scanlon","Alan Doyle","Andy Dunne","Breifne Earley","Callum Dunne","Caroline Carroll","Chris Hinchey","Ciaran O'Hart","Darragh Kenny","David Miley","David Moran","Davy Doyle","Dean Fletcher","Derek Kelly","Derek McDonald","Eamon Fox","Eoghan Brophy","Eoghan Farrelly","Fiachra O'Brolachain","Gary Donnelly","Gary Keating","Gary Fitzpatrick","Gary McGurk","Gearoid McIntyre","Gerry Draper","Gerry Moore","Graeme Buckley","Hugh Keller","Ian O'Reilly","Jay Thomas","Joe Behan","Joe Turner","John Brophy","Joseph Kavanagh","Josh Tobin","Keith Ryan","Kieran Harnett","Mark Welsh","Niall Carroll","Patrick Dempsey","Paul Moore","Richard Johnston","Seamus McGowan","Sean Keller","Sean O'Mairtin","Sean Taylor","Tom Keane","Tommy Hamill","Trevor Rankin"]
["Day","Date","Teams",null,null,null,"Time"]
["Fri","2020-03-06","St Patrick's Athletic",1,0,"Cork City","19:45:00",null,5,0,0,5,5,5,5,5,5,5,0,5,5,5,5,5,5,5,5,5,5,5,0,0,5,10,10,"-",5,5,5,5,0,5,5,5,5,10,5,5,5,5,5,0,10,5,5,10,5]
["Fri","2020-03-06","Waterford",2,1,"Derry City","19:45:00",null,0,0,10,0,0,0,0,0,0,0,0,0,0,0,0,0,0,0,0,0,0,0,5,10,0,0,0,"-",10,0,0,0,5,0,0,0,0,0,5,5,0,10,10,0,0,0,0,0,0]
["Fri","2020-03-06","Bohemians",2,0,"Shelbourne","20:00:00",null,0,5,5,0,5,0,5,0,0,0,5,0,0,5,0,5,5,10,0,5,5,0,10,5,0,0,0,"-",5,0,5,5,0,5,0,0,0,0,5,5,5,5,5,0,5,0,5,5,0]
["Fri","2020-03-06","Finn Harps",0,4,"Dundalk","20:00:00",null,5,5,5,5,5,5,5,5,5,5,10,10,5,5,5,5,5,5,5,5,5,5,5,5,5,5,5,"-",0,5,5,5,5,5,5,5,5,5,5,0,5,0,0,5,5,5,5,5,5]
["Sat","2020-03-07","Sligo Rovers",2,3,"Shamrock Rovers","19:45:00",null,5,5,5,5,5,5,5,5,5,5,0,5,5,5,5,5,5,5,5,5,0,5,5,5,5,0,0,"-",0,5,5,5,5,5,5,5,5,5,5,0,5,5,0,5,5,5,5,5,5]
[]
["Goalscorers"]
["Aaron Greene - Shamrock Rovers",null,null,{"$f":"COUNT(H10:DK10)","v":26},{"$f":"1","v":1},null,null,null,null,{"$f":"2*$E10","v":2},{"$f":"2*$E10","v":2},null,null,null,null,{"$f":"2*$E10","v":2},{"$f":"2*$E10","v":2},null,null,{"$f":"2*$E10","v":2},null,null,{"$f":"2*$E10","v":2},null,null,{"$f":"2*$E10","v":2},{"$f":"2*$E10","v":2},null,{"$f":"2*$E10","v":2},null,{"$f":"2*$E10","v":2},{"$f":"2*$E10","v":2},{"$f":"2*$E10","v":2},null,{"$f":"2*$E10","v":2},null,{"$f":"2*$E10","v":2},{"$f":"2*$E10","v":2},null,{"$f":"2*$E10","v":2},null,{"$f":"2*$E10","v":2},null,{"$f":"2*$E10","v":2},null,{"$f":"2*$E10","v":2},{"$f":"2*$E10","v":2},null,{"$f":"2*$E10","v":2},null,null,{"$f":"2*$E10","v":2},null,{"$f":"2*$E10","v":2},{"$f":"2*$E10","v":2},{"$f":"2*$E10","v":2},{"$f":"2*$E10","v":2}]
["Aaron McEneff - Shamrock Rovers",null,null,8,{"$f":"1","v":1},null,null,null,null,null,null,null,{"$f":"2*$E11","v":2},{"$f":"2*$E11","v":2},null,null,null,{"$f":"2*$E11","v":2},null,null,null,null,null,null,null,{"$f":"2*$E11","v":2},null,{"$f":"2*$E11","v":2},null,null,null,null,null,{"$f":"2*$E11","v":2},null,null,null,null,null,null,null,null,null,{"$f":"2*$E11","v":2},null,null,null,null,null,{"$f":"2*$E11","v":2}]
["Daniel Kelly - Dundalk",null,null,7,{"$f":"0","v":0},null,null,null,null,{"$f":"2*$E12","v":0},null,{"$f":"2*$E12","v":0},{"$f":"2*$E12","v":0},null,null,null,null,null,{"$f":"2*$E12","v":0},null,null,null,null,null,null,null,null,null,null,null,null,{"$f":"2*$E12","v":0},null,null,null,null,null,null,null,null,null,null,null,null,null,{"$f":"2*$E12","v":0},null,null,null,null,null,{"$f":"2*$E12","v":0}]
["Dinny Corcoran - Bohemians",null,null,23,{"$f":"0","v":0},null,null,null,null,null,null,null,null,null,null,{"$f":"2*$E13","v":0},null,{"$f":"2*$E13","v":0},{"$f":"2*$E13","v":0},null,{"$f":"2*$E13","v":0},{"$f":"2*$E13","v":0},null,{"$f":"2*$E13","v":0},null,null,{"$f":"2*$E13","v":0},{"$f":"2*$E13","v":0},{"$f":"2*$E13","v":0},{"$f":"2*$E13","v":0},{"$f":"2*$E13","v":0},null,null,{"$f":"2*$E13","v":0},null,{"$f":"2*$E13","v":0},{"$f":"2*$E13","v":0},null,null,{"$f":"2*$E13","v":0},null,{"$f":"2*$E13","v":0},{"$f":"2*$E13","v":0},null,null,null,null,{"$f":"2*$E13","v":0},null,{"$f":"2*$E13","v":0},{"$f":"2*$E13","v":0},{"$f":"2*$E13","v":0},{"$f":"2*$E13","v":0},null,{"$f":"2*$E13","v":0}]
["Graham Cummins - Waterford",null,null,2,{"$f":"0","v":0},null,null,null,{"$f":"2*$E14","v":0},null,null,{"$f":"2*$E14","v":0}]
["Jack Byrne - Shamrock Rovers",null,null,11,{"$f":"1","v":1},null,null,null,{"$f":"2*$E15","v":2},null,null,null,{"$f":"2*$E15","v":2},{"$f":"2*$E15","v":2},{"$f":"2*$E15","v":2},null,null,null,null,{"$f":"2*$E15","v":2},null,null,{"$f":"2*$E15","v":2},null,null,null,null,null,null,null,null,null,null,null,null,null,null,null,{"$f":"2*$E15","v":2},null,{"$f":"2*$E15","v":2},null,null,null,{"$f":"2*$E15","v":2},null,null,null,null,null,null,null,{"$f":"2*$E15","v":2},null,null,null,{"$f":"2*$E15","v":2}]
["Jaze Kabia - Shelbourne",null,null,3,{"$f":"0","v":0},null,null,null,null,null,null,null,null,null,null,null,null,null,null,null,null,null,{"$f":"2*$E16","v":0},null,{"$f":"2*$E16","v":0},null,null,null,null,null,null,null,null,null,null,null,null,null,null,null,{"$f":"2*$E16","v":0}]
["Michael Duffy - Dundalk",null,null,21,{"$f":"1","v":1},null,null,null,null,null,{"$f":"2*$E17","v":2},{"$f":"2*$E17","v":2},null,null,{"$f":"2*$E17","v":2},{"$f":"2*$E17","v":2},{"$f":"2*$E17","v":2},null,null,null,{"$f":"2*$E17","v":2},null,null,{"$f":"2*$E17","v":2},{"$f":"2*$E17","v":2},null,null,null,null,{"$f":"2*$E17","v":2},null,null,{"$f":"2*$E17","v":2},null,{"$f":"2*$E17","v":2},{"$f":"2*$E17","v":2},null,2,2,null,null,null,null,null,null,null,{"$f":"2*$E17","v":2},2,2,null,{"$f":"2*$E17","v":2},null,null,{"$f":"2*$E17","v":2},{"$f":"2*$E17","v":2},{"$f":"2*$E17","v":2}]
["Patrick Hoban - Dundalk",null,null,41,{"$f":"2","v":2},null,null,null,{"$f":"2*$E18","v":4},{"$f":"2*$E18","v":4},{"$f":"2*$E18","v":4},null,null,{"$f":"2*$E18","v":4},{"$f":"2*$E18","v":4},null,{"$f":"2*$E18","v":4},{"$f":"2*$E18","v":4},{"$f":"2*$E18","v":4},{"$f":"2*$E18","v":4},{"$f":"2*$E18","v":4},{"$f":"2*$E18","v":4},null,{"$f":"2*$E18","v":4},{"$f":"2*$E18","v":4},{"$f":"2*$E18","v":4},{"$f":"2*$E18","v":4},{"$f":"2*$E18","v":4},{"$f":"2*$E18","v":4},{"$f":"2*$E18","v":4},{"$f":"2*$E18","v":4},{"$f":"2*$E18","v":4},{"$f":"2*$E18","v":4},{"$f":"2*$E18","v":4},4,{"$f":"2*$E18","v":4},{"$f":"2*$E18","v":4},4,4,4,4,4,4,4,4,{"$f":"2*$E18","v":4},4,4,4,null,null,null,{"$f":"2*$E18","v":4},{"$f":"2*$E18","v":4},null,{"$f":"2*$E18","v":4},{"$f":"2*$E18","v":4}]
["Walter Figueira - Derry City",null,null,5,{"$f":"0","v":0},null,null,null,null,null,null,null,null,null,null,null,null,null,null,null,null,{"$f":"2*$E19","v":0},null,null,null,null,null,null,null,null,null,null,null,null,null,null,null,null,null,null,null,null,{"$f":"2*$E19","v":0},null,{"$f":"2*$E19","v":0},null,null,null,null,{"$f":"2*$E19","v":0},{"$f":"2*$E19","v":0}]
[]
["Golden Gloves"]
["Alan Mannus - Shamrock Rovers",null,null,{"$f":"COUNT(H22:DK22)","v":14},{"$f":"0","v":0},null,null,null,null,{"$f":"2*$E22","v":0},null,null,null,null,null,null,{"$f":"2*$E22","v":0},{"$f":"2*$E22","v":0},null,{"$f":"2*$E22","v":0},null,{"$f":"2*$E22","v":0},null,null,{"$f":"2*$E22","v":0},null,{"$f":"2*$E22","v":0},null,null,null,null,null,null,null,null,null,null,{"$f":"2*$E22","v":0},null,{"$f":"2*$E22","v":0},null,{"$f":"2*$E22","v":0},null,{"$f":"2*$E22","v":0},null,{"$f":"2*$E22","v":0},{"$f":"2*$E22","v":0},null,null,null,null,null,null,null,{"$f":"2*$E22","v":0}]
["Conor Kearns - St Patrick's Athletic",null,null,{"$f":"COUNT(H23:DK23)","v":1},{"$f":"0","v":0},null,null,null,{"$f":"2*$E23","v":0}]
["Gary Rogers - Dundalk",null,null,{"$f":"COUNT(H24:DK24)","v":24},{"$f":"1","v":1},null,null,null,null,null,{"$f":"2*$E24","v":2},2,2,2,2,2,null,null,null,null,{"$f":"2*$E24","v":2},null,null,{"$f":"2*$E24","v":2},null,{"$f":"2*$E24","v":2},null,null,null,{"$f":"2*$E24","v":2},2,2,2,2,2,null,null,null,{"$f":"2*$E24","v":2},null,{"$f":"2*$E24","v":2},null,{"$f":"2*$E24","v":2},null,null,null,null,{"$f":"2*$E24","v":2},{"$f":"2*$E24","v":2},null,{"$f":"2*$E24","v":2},null,null,{"$f":"2*$E24","v":2},null,{"$f":"2*$E24","v":2},{"$f":"2*$E24","v":2}]
["James Talbot - Bohemians",null,null,{"$f":"COUNT(H25:DK25)","v":9},{"$f":"0","v":0},null,null,null,null,null,null,null,null,null,null,null,null,null,{"$f":"2*$E25","v":0},null,null,null,{"$f":"2*$E25","v":0},null,null,null,null,{"$f":"2*$E25","v":0},{"$f":"2*$E25","v":0},null,null,null,null,null,null,0,{"$f":"2*$E25","v":0},null,null,null,null,null,null,null,{"$f":"2*$E25","v":0},null,null,null,null,null,null,{"$f":"2*$E25","v":0},{"$f":"2*$E25","v":0}]
["Peter Cherrie - Derry City",null,null,{"$f":"COUNT(H26:DK26)","v":1},{"$f":"0","v":0},null,null,null,null,null,null,null,null,null,null,null,null,null,null,null,null,null,null,null,null,null,null,null,null,null,null,null,null,null,null,null,null,null,null,null,null,null,null,null,null,null,null,null,null,{"$f":"2*$E26","v":0}]
[]
["Sack Race"]
["Alan Reynolds - Waterford",null,null,{"$f":"COUNT(H29:DK29)","v":12},null,null,null,null,null,null,null,null,null,{"$f":"15*$E29","v":0},null,null,{"$f":"15*$E29","v":0},null,{"$f":"15*$E29","v":0},null,null,null,{"$f":"15*$E29","v":0},null,{"$f":"15*$E29","v":0},null,null,{"$f":"15*$E29","v":0},{"$f":"15*$E29","v":0},{"$f":"15*$E29","v":0},null,null,null,null,null,null,null,{"$f":"15*$E29","v":0},null,null,null,null,null,{"$f":"15*$E29","v":0},null,null,null,{"$f":"15*$E29","v":0},null,null,null,null,null,null,null,{"$f":"15*$E29","v":0}]
["Declan Devine - Derry City",null,null,3,null,null,null,null,{"$f":"15*$E30","v":0},null,null,null,null,null,null,null,null,{"$f":"15*$E30","v":0},null,null,null,null,null,null,null,null,null,null,null,null,null,null,null,null,null,null,null,null,null,null,null,null,{"$f":"15*$E30","v":0}]
["Ian Morris - Shelbourne",null,null,4,null,null,null,null,null,null,null,null,null,null,{"$f":"15*$E31","v":0},null,null,null,null,null,{"$f":"15*$E31","v":0},null,null,null,null,null,null,null,null,null,null,null,null,null,{"$f":"15*$E31","v":0},null,null,null,null,null,null,null,null,null,{"$f":"15*$E31","v":0}]
["Keith Long - Bohemians",null,null,1,null,null,null,null,null,null,null,null,null,null,null,null,null,null,null,null,null,null,null,null,null,null,null,null,null,null,null,null,null,null,null,null,null,null,{"$f":"15*$E32","v":0}]
["Liam Buckley - Sligo Rovers",null,null,5,null,null,null,null,null,null,{"$f":"15*$E33","v":0},{"$f":"15*$E33","v":0},null,null,null,null,null,null,null,null,null,{"$f":"15*$E33","v":0},null,null,null,null,null,null,null,null,null,null,null,null,null,null,null,null,null,null,null,null,null,null,null,{"$f":"15*$E33","v":0},null,null,null,null,null,null,{"$f":"15*$E33","v":0}]
["Neal Fenn - Cork City",null,null,14,null,null,null,null,null,{"$f":"15*$E34","v":0},null,null,{"$f":"15*$E34","v":0},null,null,{"$f":"15*$E34","v":0},null,null,null,null,null,null,null,{"$f":"15*$E34","v":0},null,{"$f":"15*$E34","v":0},{"$f":"15*$E34","v":0},null,null,null,{"$f":"15*$E34","v":0},{"$f":"15*$E34","v":0},null,null,null,null,{"$f":"15*$E34","v":0},null,null,null,null,{"$f":"15*$E34","v":0},null,null,null,null,{"$f":"15*$E34","v":0},null,null,null,{"$f":"15*$E34","v":0},null,null,{"$f":"15*$E34","v":0},null,null,{"$f":"15*$E34","v":0}]
["Ollie Horgan - Finn Harps",null,null,7,null,null,null,null,null,null,null,null,null,null,null,null,null,null,null,{"$f":"15*$E35","v":0},null,null,null,null,null,null,null,null,null,null,null,null,{"$f":"15*$E35","v":0},{"$f":"15*$E35","v":0},null,null,null,null,null,{"$f":"15*$E35","v":0},{"$f":"15*$E35","v":0},null,null,null,null,null,null,null,{"$f":"15*$E35","v":0},null,null,{"$f":"15*$E35","v":0}]
["Stephen Bradley - Shamrock Rovers",null,null,0]
["Stephen McDonnell - St Patrick's Athletic",null,null,2,null,null,null,null,null,null,null,null,null,null,null,null,null,null,null,null,null,null,null,null,null,null,null,null,null,null,null,null,null,null,null,{"$f":"15*$E37","v":0},null,null,null,null,null,null,null,null,null,null,null,null,null,null,null,null,null,null,{"$f":"15*$E37","v":0}]
["Vinny Perth - Dundalk",null,null,1,null,null,null,null,null,null,null,null,null,null,null,null,null,null,null,null,null,null,null,null,null,null,null,null,null,null,null,null,null,null,null,null,null,null,null,null,null,null,null,null,null,null,null,null,null,{"$f":"15*$E38","v":0}]
[]
["Grand Total - February",null,null,null,null,null,null,null,{"$f":"SUM(I$3:I39)","v":21},{"$f":"SUM(J$3:J39)","v":21},{"$f":"SUM(K$3:K39)","v":35},{"$f":"SUM(L$3:L39)","v":19},{"$f":"SUM(M$3:M39)","v":26},{"$f":"SUM(N$3:N39)","v":25},{"$f":"SUM(O$3:O39)","v":30},{"$f":"SUM(P$3:P39)","v":21},{"$f":"SUM(Q$3:Q39)","v":23},{"$f":"SUM(R$3:R39)","v":21},{"$f":"SUM(S$3:S39)","v":19},{"$f":"SUM(T$3:T39)","v":28},{"$f":"SUM(U$3:U39)","v":23},{"$f":"SUM(V$3:V39)","v":24},{"$f":"SUM(W$3:W39)","v":19},{"$f":"SUM(X$3:X39)","v":28},{"$f":"SUM(Y$3:Y39)","v":26},{"$f":"SUM(Z$3:Z39)","v":35},{"$f":"SUM(AA$3:AA39)","v":21},{"$f":"SUM(AB$3:AB39)","v":26},{"$f":"SUM(AC$3:AC39)","v":21},{"$f":"SUM(AD$3:AD39)","v":23},{"$f":"SUM(AE$3:AE39)","v":33},{"$f":"SUM(AF$3:AF39)","v":33},{"$f":"SUM(AG$3:AG39)","v":25},{"$f":"SUM(AH$3:AH39)","v":23},{"$f":"SUM(AI$3:AI39)","v":25},{"$f":"SUM(AJ$3:AJ39)","v":6},{"$f":"SUM(AK$3:AK39)","v":26},{"$f":"SUM(AL$3:AL39)","v":23},{"$f":"SUM(AM$3:AM39)","v":30},{"$f":"SUM(AN$3:AN39)","v":26},{"$f":"SUM(AO$3:AO39)","v":23},{"$f":"SUM(AP$3:AP39)","v":26},{"$f":"SUM(AQ$3:AQ39)","v":21},{"$f":"SUM(AR$3:AR39)","v":23},{"$f":"SUM(AS$3:AS39)","v":21},{"$f":"SUM(AT$3:AT39)","v":26},{"$f":"SUM(AU$3:AU39)","v":33},{"$f":"SUM(AV$3:AV39)","v":23},{"$f":"SUM(AW$3:AW39)","v":30},{"$f":"SUM(AX$3:AX39)","v":27},{"$f":"SUM(AY$3:AY39)","v":24},{"$f":"SUM(AZ$3:AZ39)","v":12},{"$f":"SUM(BA$3:BA39)","v":31},{"$f":"SUM(BB$3:BB39)","v":25},{"$f":"SUM(BC$3:BC39)","v":24},{"$f":"SUM(BD$3:BD39)","v":35},{"$f":"SUM(BE$3:BE39)","v":25}]
[]
["Ten Pointers",null,null,null,null,null,null,null,{"$f":"COUNTIF(I3:I7,10)","v":0},0,1,0,0,0,0,0,0,0,1,1,0,0,0,0,0,1,0,0,0,0,1,1,0,1,1,0,1,0,0,0,{"$f":"COUNTIF(AO3:AO7,10)","v":0},0,0,0,0,1,0,0,0,1,1,0,1,0,0,1,0]

{"sheet":"July & August","index":3,"n_rows":60,"n_cols":57,"rows_kept":60,"cut":false,"hidden":false,"merged":[[1,2,1,5]]}
[null,null,null,null,null,null,null,null,"Aidan Scanlon","Alan Doyle","Andy Dunne","Breifne Earley","Callum Dunne","Caroline Carroll","Chris Hinchey","Ciaran O'Hart","Darragh Kenny","David Miley","David Moran","Davy Doyle","Dean Fletcher","Derek Kelly","Derek McDonald","Eamon Fox","Eoghan Brophy","Eoghan Farrelly","Fiachra O'Brolachain","Gary Donnelly","Gary Keating","Gary Fitzpatrick","Gary McGurk","Gearoid McIntyre","Gerry Draper","Gerry Moore","Graeme Buckley","Hugh Keller","Ian O'Reilly","Jay Thomas","Joe Behan","Joe Turner","John Brophy","Joseph Kavanagh","Josh Tobin","Keith Ryan","Kieran Harnett","Mark Welsh","Niall Carroll","Patrick Dempsey","Paul Moore","Richard Johnston","Seamus McGowan","Sean Keller","Sean O'Mairtin","Sean Taylor","Tom Keane","Tommy Hamill","Trevor Rankin"]
["Day","Date","Teams",null,null,null,"Time"]
["Fri","2020-07-31","Derry City",0,2,"Sligo Rovers","17:45:00",null,0,0,0,0,0,0,0,0,0,0,0,0,0,0,0,0,0,0,0,0,0,0,0,0,0,0,0,"-",0,0,0,0,0,0,0,0,0,0,0,0,0,0,0,5,0,0,0,0,0]
["Fri","2020-07-31","Dundalk",1,1,"St Patrick's Athletic","19:45:00",null,5,0,0,0,0,0,0,0,0,0,0,0,0,0,0,0,0,0,0,10,0,0,0,0,0,0,0,"-",0,0,0,0,0,10,0,0,0,0,0,0,0,0,0,0,0,0,0,0,0]
["Sat","2020-08-01","Shelbourne",0,1,"Waterford","14:00:00",null,5,0,5,0,0,5,0,0,0,0,0,0,0,0,0,0,0,0,0,0,0,0,0,0,0,0,0,"-",0,0,0,0,0,0,0,0,0,0,0,0,0,0,0,5,0,0,0,0,0]
["Sat","2020-08-01","Shamrock Rovers",3,1,"Finn Harps","17:00:00",null,5,5,5,5,5,5,5,5,5,5,5,10,5,5,10,5,5,5,5,5,5,5,5,5,5,5,5,"-",5,5,5,5,5,5,5,5,5,5,5,10,5,5,5,0,5,5,5,5,5]
["Sun","2020-08-02","Cork City",0,1,"Bohemians","17:00:00",null,0,0,0,5,0,0,5,0,10,5,0,5,5,5,5,10,5,5,5,5,5,0,0,10,5,5,10,"-",0,0,5,0,0,10,10,5,0,10,0,0,10,5,0,5,5,10,5,10,0]
["Mon","2020-08-03","St Patrick's Athletic",0,2,"Derry City","19:45:00",null,0,5,0,0,0,0,0,0,0,0,0,5,0,0,0,0,5,0,0,0,0,0,0,5,0,0,0,"-",0,0,0,0,0,0,0,0,0,5,0,0,0,0,0,5,0,0,0,0,0]
["Tue","2020-08-04","Finn Harps",0,1,"Shelbourne","17:45:00",null,0,0,0,0,0,0,5,0,0,5,0,10,0,0,5,0,0,0,0,0,0,0,10,0,0,10,10,"-",0,5,0,0,5,0,10,10,5,10,0,0,0,0,"-",5,0,0,10,0,0]
["Fri","2020-08-07","Bohemians",2,1,"Dundalk","17:45:00",null,0,0,0,5,10,0,5,0,0,0,10,0,0,0,10,0,0,0,0,0,10,0,5,0,0,10,0,"-",10,0,0,0,0,0,0,0,0,0,0,5,0,10,"-",0,0,0,0,0,0]
["Fri","2020-08-07","St Patrick's Athletic",2,0,"Finn Harps","19:45:00",null,5,10,0,10,5,10,10,10,10,5,0,10,10,10,10,10,10,10,5,10,5,5,5,5,10,5,10,"-",5,10,10,5,5,5,0,10,5,10,5,5,10,5,"-",0,10,10,5,10,5]
["Sat","2020-08-08","Waterford",0,0,"Cork City","14:00:00",null,0,5,0,0,0,0,0,5,0,0,0,0,5,5,0,0,0,0,0,5,0,5,0,0,0,0,5,"-",0,0,0,0,5,0,0,0,0,0,0,0,0,0,"-",0,0,0,0,0,0]
["Sat","2020-08-08","Sligo Rovers",2,1,"Shelbourne","17:00:00",null,0,10,5,5,10,0,5,5,5,0,10,0,0,0,0,5,0,10,0,0,5,0,5,5,5,10,5,"-","-",5,0,5,5,10,0,0,5,0,5,"-",5,5,"-","-",0,5,10,0,10]
["Sat","2020-08-09","Derry City",1,2,"Shamrock Rovers","19:45:00",null,5,5,5,0,0,5,0,5,10,5,0,5,5,5,0,5,5,0,10,5,0,10,0,5,5,5,10,"-","-",5,5,10,0,5,5,5,10,5,5,"-",5,5,"-","-",0,0,5,0,5]
["Fri","2020-08-14","Dundalk",2,2,"Waterford","17:45:00",null,0,0,0,"-",0,0,0,0,0,0,0,0,0,0,0,0,0,0,0,0,0,0,0,0,0,0,0,"-","-",0,0,0,0,0,0,0,0,0,0,"-",0,0,"-","-",0,0,0,0,0]
["Fri","2020-08-14","Cork City",2,0,"Sligo Rovers","19:45:00",null,0,0,5,"-",5,5,5,5,0,0,5,0,0,0,0,0,0,5,0,0,0,0,5,0,5,5,5,"-","-",0,0,0,0,0,0,0,5,0,0,"-",0,5,"-","-",0,5,0,0,0]
["Sat","2020-08-15","Finn Harps",0,1,"Bohemians","14:00:00",null,5,0,10,"-",0,5,0,0,10,5,0,5,5,10,0,5,5,0,5,0,5,10,5,0,0,5,10,"-","-",0,5,10,0,10,5,5,0,5,5,"-",5,0,"-","-",5,0,10,5,5]
["Sat","2020-08-15","Shelbourne",1,1,"Derry City","17:00:00",null,0,0,10,"-",5,0,0,10,0,10,0,0,10,0,0,10,5,0,0,0,5,10,0,0,0,0,10,"-","-",0,0,5,0,10,0,10,0,10,0,"-",0,0,"-","-",0,0,0,0,0]
["Sun","2020-08-16","St Patrick's Athletic",0,0,"Shamrock Rovers","17:00:00",null,0,0,5,"-",0,0,0,0,0,0,0,0,0,0,0,0,0,0,0,5,0,0,5,5,0,5,0,"-","-",0,0,0,0,0,0,0,0,0,5,"-",0,0,"-","-",5,0,0,5,0]
["Tue","2020-08-18","Sligo Rovers",2,1,"Waterford","17:45:00",null,0,5,5,"-",10,0,5,5,10,0,5,0,5,5,5,5,5,5,5,10,0,0,0,5,0,5,10,"-","-",10,5,10,0,10,5,10,5,0,0,"-",5,5,"-","-",5,10,5,5,10]
["Fri","2020-08-21","Derry City",3,1,"Cork City","17:45:00",null,5,5,5,"-",5,5,5,0,5,0,0,5,5,5,5,5,5,10,0,10,0,0,5,5,0,5,5,"-","-",5,5,5,0,5,0,5,5,0,5,"-",0,5,"-","-",5,5,10,5,5]
["Fri","2020-08-21","Shamrock Rovers",0,0,"Shelbourne","19:45:00",null,0,0,0,"-",0,0,0,0,0,0,5,0,0,0,0,0,0,0,0,0,0,0,0,0,0,0,0,"-","-",0,0,0,0,0,0,0,0,0,0,"-",0,0,"-","-",0,0,0,0,0]
["Sat","2020-08-22","Bohemians",2,0,"St Patrick's Athletic","14:00:00",null,0,10,5,"-","-",0,10,5,5,10,10,0,0,5,0,5,5,0,0,0,5,0,10,10,5,0,0,"-","-",5,0,5,0,0,0,5,10,0,0,"-",5,5,"-","-",0,5,0,0,5]
["Sat","2020-08-22","Sligo Rovers",3,1,"Dundalk","17:00:00",null,0,0,0,"-","-",5,5,5,0,0,0,0,0,0,5,0,0,0,5,0,0,5,0,0,0,0,0,"-","-",5,5,0,0,0,0,0,5,0,5,"-",0,5,"-","-",0,5,0,0,5]
["Sun","2020-08-23","Waterford",2,3,"Finn Harps","14:00:00",null,0,0,0,"-","-",0,"-",0,0,0,5,0,0,0,0,0,0,0,0,0,0,5,0,0,0,0,0,"-","-",0,0,0,0,0,5,0,0,5,0,"-",0,"-","-","-",0,0,0,0,0]
[]
["Goalscorers"]
["Aaron Greene - Shamrock Rovers",null,null,{"$f":"COUNT(H28:DK28)","v":26},{"$f":"0+0+0+0","v":0},null,null,null,null,{"$f":"2*$E28","v":0},{"$f":"2*$E28","v":0},null,null,null,null,{"$f":"2*$E28","v":0},{"$f":"2*$E28","v":0},null,null,{"$f":"2*$E28","v":0},null,null,{"$f":"2*$E28","v":0},null,null,{"$f":"2*$E28","v":0},{"$f":"2*$E28","v":0},null,{"$f":"2*$E28","v":0},null,{"$f":"2*$E28","v":0},{"$f":"2*$E28","v":0},{"$f":"2*$E28","v":0},null,{"$f":"2*$E28","v":0},null,{"$f":"2*$E28","v":0},{"$f":"2*$E28","v":0},null,{"$f":"2*$E28","v":0},null,{"$f":"2*$E28","v":0},null,{"$f":"2*$E28","v":0},null,{"$f":"2*$E28","v":0},{"$f":"2*$E28","v":0},null,{"$f":"2*$E28","v":0},null,null,{"$f":"2*$E28","v":0},null,{"$f":"2*$E28","v":0},{"$f":"2*$E28","v":0},{"$f":"2*$E28","v":0},{"$f":"2*$E28","v":0}]
["Aaron McEneff - Shamrock Rovers",null,null,8,{"$f":"1+0+0+0","v":1},null,null,null,null,null,null,null,{"$f":"2*$E29","v":2},{"$f":"2*$E29","v":2},null,null,null,{"$f":"2*$E29","v":2},null,null,null,null,null,null,null,{"$f":"2*$E29","v":2},null,{"$f":"2*$E29","v":2},null,null,null,null,null,{"$f":"2*$E29","v":2},null,null,null,null,null,null,null,null,null,{"$f":"2*$E29","v":2},null,null,null,null,null,{"$f":"2*$E29","v":2}]
["Daniel Kelly - Dundalk",null,null,7,{"$f":"0+0+0+0","v":0},null,null,null,null,{"$f":"2*$E30","v":0},null,{"$f":"2*$E30","v":0},{"$f":"2*$E30","v":0},null,null,null,null,null,{"$f":"2*$E30","v":0},null,null,null,null,null,null,null,null,null,null,null,null,{"$f":"2*$E30","v":0},null,null,null,null,null,null,null,null,null,null,null,null,null,{"$f":"2*$E30","v":0},null,null,null,null,null,{"$f":"2*$E30","v":0}]
["Dinny Corcoran - Bohemians",null,null,23,{"$f":"0+0+0+0","v":0},null,null,null,null,null,null,null,null,null,null,{"$f":"2*$E31","v":0},null,{"$f":"2*$E31","v":0},{"$f":"2*$E31","v":0},null,{"$f":"2*$E31","v":0},{"$f":"2*$E31","v":0},null,{"$f":"2*$E31","v":0},null,null,{"$f":"2*$E31","v":0},{"$f":"2*$E31","v":0},{"$f":"2*$E31","v":0},{"$f":"2*$E31","v":0},{"$f":"2*$E31","v":0},null,null,{"$f":"2*$E31","v":0},null,{"$f":"2*$E31","v":0},{"$f":"2*$E31","v":0},null,null,{"$f":"2*$E31","v":0},null,{"$f":"2*$E31","v":0},{"$f":"2*$E31","v":0},null,null,null,null,{"$f":"2*$E31","v":0},null,{"$f":"2*$E31","v":0},{"$f":"2*$E31","v":0},{"$f":"2*$E31","v":0},{"$f":"2*$E31","v":0},null,{"$f":"2*$E31","v":0}]
["Graham Cummins - Cork City",null,null,2,{"$f":"0+0+0+0","v":0},null,null,null,{"$f":"2*$E32","v":0},null,null,{"$f":"2*$E32","v":0}]
["Jack Byrne - Shamrock Rovers",null,null,11,{"$f":"1+0+0+0","v":1},null,null,null,{"$f":"2*$E33","v":2},null,null,null,{"$f":"2*$E33","v":2},{"$f":"2*$E33","v":2},{"$f":"2*$E33","v":2},null,null,null,null,{"$f":"2*$E33","v":2},null,null,{"$f":"2*$E33","v":2},null,null,null,null,null,null,null,null,null,null,null,null,null,null,null,{"$f":"2*$E33","v":2},null,{"$f":"2*$E33","v":2},null,null,null,{"$f":"2*$E33","v":2},null,null,null,null,null,null,null,{"$f":"2*$E33","v":2},null,null,null,{"$f":"2*$E33","v":2}]
["Jaze Kabia - Shelbourne",null,null,3,{"$f":"0+0+0+0","v":0},null,null,null,null,null,null,null,null,null,null,null,null,null,null,null,null,null,{"$f":"2*$E34","v":0},null,{"$f":"2*$E34","v":0},null,null,null,null,null,null,null,null,null,null,null,null,null,null,null,{"$f":"2*$E34","v":0}]
["Michael Duffy - Dundalk",null,null,21,{"$f":"0+1+0+0","v":1},null,null,null,null,null,{"$f":"2*$E35","v":2},{"$f":"2*$E35","v":2},null,null,{"$f":"2*$E35","v":2},{"$f":"2*$E35","v":2},{"$f":"2*$E35","v":2},null,null,null,{"$f":"2*$E35","v":2},null,null,{"$f":"2*$E35","v":2},{"$f":"2*$E35","v":2},null,null,null,null,{"$f":"2*$E35","v":2},null,null,{"$f":"2*$E35","v":2},null,{"$f":"2*$E35","v":2},{"$f":"2*$E35","v":2},null,2,2,null,null,null,null,null,null,null,{"$f":"2*$E35","v":2},2,2,null,{"$f":"2*$E35","v":2},null,null,{"$f":"2*$E35","v":2},{"$f":"2*$E35","v":2},{"$f":"2*$E35","v":2}]
["Patrick Hoban - Dundalk",null,null,41,{"$f":"1+0+1+0","v":2},null,null,null,{"$f":"2*$E36","v":4},{"$f":"2*$E36","v":4},{"$f":"2*$E36","v":4},null,null,{"$f":"2*$E36","v":4},{"$f":"2*$E36","v":4},null,{"$f":"2*$E36","v":4},{"$f":"2*$E36","v":4},{"$f":"2*$E36","v":4},{"$f":"2*$E36","v":4},{"$f":"2*$E36","v":4},{"$f":"2*$E36","v":4},null,{"$f":"2*$E36","v":4},{"$f":"2*$E36","v":4},{"$f":"2*$E36","v":4},{"$f":"2*$E36","v":4},{"$f":"2*$E36","v":4},{"$f":"2*$E36","v":4},{"$f":"2*$E36","v":4},{"$f":"2*$E36","v":4},{"$f":"2*$E36","v":4},{"$f":"2*$E36","v":4},{"$f":"2*$E36","v":4},4,{"$f":"2*$E36","v":4},{"$f":"2*$E36","v":4},4,4,4,4,4,4,4,4,{"$f":"2*$E36","v":4},4,4,4,null,null,null,{"$f":"2*$E36","v":4},{"$f":"2*$E36","v":4},null,{"$f":"2*$E36","v":4},{"$f":"2*$E36","v":4}]
["Walter Figueira - Derry City",null,null,5,{"$f":"0+1+0+1","v":2},null,null,null,null,null,null,null,null,null,null,null,null,null,null,null,null,{"$f":"2*$E37","v":4},null,null,null,null,null,null,null,null,null,null,null,null,null,null,null,null,null,null,null,null,{"$f":"2*$E37","v":4},null,{"$f":"2*$E37","v":4},null,null,null,null,{"$f":"2*$E37","v":4},{"$f":"2*$E37","v":4}]
[]
["Golden Gloves"]
["Alan Mannus - Shamrock Rovers",null,null,{"$f":"COUNT(H40:DK40)","v":14},{"$f":"0+0+1+1","v":2},null,null,null,null,{"$f":"2*$E40","v":4},null,null,null,null,null,null,{"$f":"2*$E40","v":4},{"$f":"2*$E40","v":4},null,{"$f":"2*$E40","v":4},null,{"$f":"2*$E40","v":4},null,null,{"$f":"2*$E40","v":4},null,{"$f":"2*$E40","v":4},null,null,null,null,null,null,null,null,null,null,{"$f":"2*$E40","v":4},null,{"$f":"2*$E40","v":4},null,{"$f":"2*$E40","v":4},null,{"$f":"2*$E40","v":4},null,{"$f":"2*$E40","v":4},{"$f":"2*$E40","v":4},null,null,null,null,null,null,null,{"$f":"2*$E40","v":4}]
["Conor Kearns - St Patrick's Athletic",null,null,{"$f":"COUNT(H41:DK41)","v":1},{"$f":"0+0+0+0+0","v":0},null,null,null,{"$f":"2*$E41","v":0}]
["Gary Rogers - Dundalk",null,null,{"$f":"COUNT(H42:DK42)","v":24},{"$f":"0+0+0+0","v":0},null,null,null,null,null,{"$f":"2*$E42","v":0},0,0,0,0,0,null,null,null,null,{"$f":"2*$E42","v":0},null,null,{"$f":"2*$E42","v":0},null,{"$f":"2*$E42","v":0},null,null,null,{"$f":"2*$E42","v":0},0,0,0,0,0,null,null,null,{"$f":"2*$E42","v":0},null,{"$f":"2*$E42","v":0},null,{"$f":"2*$E42","v":0},null,null,null,null,{"$f":"2*$E42","v":0},{"$f":"2*$E42","v":0},null,{"$f":"2*$E42","v":0},null,null,{"$f":"2*$E42","v":0},null,{"$f":"2*$E42","v":0},{"$f":"2*$E42","v":0}]
["James Talbot - Bohemians",null,null,{"$f":"COUNT(H43:DK43)","v":9},{"$f":"0+0+0+0","v":0},null,null,null,null,null,null,null,null,null,null,null,null,null,{"$f":"2*$E43","v":0},null,null,null,{"$f":"2*$E43","v":0},null,null,null,null,{"$f":"2*$E43","v":0},{"$f":"2*$E43","v":0},null,null,null,null,null,null,0,{"$f":"2*$E43","v":0},null,null,null,null,null,null,null,{"$f":"2*$E43","v":0},null,null,null,null,null,null,{"$f":"2*$E43","v":0},{"$f":"2*$E43","v":0}]
["Peter Cherrie - Derry City",null,null,{"$f":"COUNT(H44:DK44)","v":1},{"$f":"0+0+0+0","v":0},null,null,null,null,null,null,null,null,null,null,null,null,null,null,null,null,null,null,null,null,null,null,null,null,null,null,null,null,null,null,null,null,null,null,null,null,null,null,null,null,null,null,null,null,{"$f":"2*$E44","v":0}]
[]
["Sack Race"]
["Alan Reynolds - Waterford",null,null,{"$f":"COUNT(H47:DK47)","v":12},1,null,null,null,null,null,null,null,null,{"$f":"15*$E47","v":15},null,null,{"$f":"15*$E47","v":15},null,{"$f":"15*$E47","v":15},null,null,null,{"$f":"15*$E47","v":15},null,{"$f":"15*$E47","v":15},null,null,{"$f":"15*$E47","v":15},{"$f":"15*$E47","v":15},{"$f":"15*$E47","v":15},null,null,null,null,null,null,null,{"$f":"15*$E47","v":15},null,null,null,null,null,{"$f":"15*$E47","v":15},null,null,null,{"$f":"15*$E47","v":15},null,null,null,null,null,null,null,{"$f":"15*$E47","v":15}]
["Declan Devine - Derry City",null,null,3,null,null,null,null,{"$f":"15*$E48","v":0},null,null,null,null,null,null,null,null,{"$f":"15*$E48","v":0},null,null,null,null,null,null,null,null,null,null,null,null,null,null,null,null,null,null,null,null,null,null,null,null,{"$f":"15*$E48","v":0}]
["Ian Morris - Shelbourne",null,null,4,null,null,null,null,null,null,null,null,null,null,{"$f":"15*$E49","v":0},null,null,null,null,null,{"$f":"15*$E49","v":0},null,null,null,null,null,null,null,null,null,null,null,null,null,{"$f":"15*$E49","v":0},null,null,null,null,null,null,null,null,null,{"$f":"15*$E49","v":0}]
["Keith Long - Bohemians",null,null,1,null,null,null,null,null,null,null,null,null,null,null,null,null,null,null,null,null,null,null,null,null,null,null,null,null,null,null,null,null,null,null,null,null,null,{"$f":"15*$E50","v":0}]
["Liam Buckley - Sligo Rovers",null,null,5,null,null,null,null,null,null,{"$f":"15*$E51","v":0},{"$f":"15*$E51","v":0},null,null,null,null,null,null,null,null,null,{"$f":"15*$E51","v":0},null,null,null,null,null,null,null,null,null,null,null,null,null,null,null,null,null,null,null,null,null,null,null,{"$f":"15*$E51","v":0},null,null,null,null,null,null,{"$f":"15*$E51","v":0}]
["Neal Fenn - Cork City",null,null,14,null,null,null,null,null,{"$f":"15*$E52","v":0},null,null,{"$f":"15*$E52","v":0},null,null,{"$f":"15*$E52","v":0},null,null,null,null,null,null,null,{"$f":"15*$E52","v":0},null,{"$f":"15*$E52","v":0},{"$f":"15*$E52","v":0},null,null,null,{"$f":"15*$E52","v":0},{"$f":"15*$E52","v":0},null,null,null,null,{"$f":"15*$E52","v":0},null,null,null,null,{"$f":"15*$E52","v":0},null,null,null,null,{"$f":"15*$E52","v":0},null,null,null,{"$f":"15*$E52","v":0},null,null,{"$f":"15*$E52","v":0},null,null,{"$f":"15*$E52","v":0}]
["Ollie Horgan - Finn Harps",null,null,7,null,null,null,null,null,null,null,null,null,null,null,null,null,null,null,{"$f":"15*$E53","v":0},null,null,null,null,null,null,null,null,null,null,null,null,{"$f":"15*$E53","v":0},{"$f":"15*$E53","v":0},null,null,null,null,null,{"$f":"15*$E53","v":0},{"$f":"15*$E53","v":0},null,null,null,null,null,null,null,{"$f":"15*$E53","v":0},null,null,{"$f":"15*$E53","v":0}]
["Stephen Bradley - Shamrock Rovers",null,null,0]
["Stephen McDonnell - St Patrick's Athletic",null,null,2,null,null,null,null,null,null,null,null,null,null,null,null,null,null,null,null,null,null,null,null,null,null,null,null,null,null,null,null,null,null,null,{"$f":"15*$E55","v":0},null,null,null,null,null,null,null,null,null,null,null,null,null,null,null,null,null,null,{"$f":"15*$E55","v":0}]
["Vinny Perth - Dundalk",null,null,1,null,null,null,null,null,null,null,null,null,null,null,null,null,null,null,null,null,null,null,null,null,null,null,null,null,null,null,null,null,null,null,null,null,null,null,null,null,null,null,null,null,null,null,null,null,{"$f":"15*$E56","v":0}]
[]
["Grand Total - July and August",null,null,null,null,null,null,null,{"$f":"SUM(I$3:I57)","v":41},{"$f":"SUM(J$3:J57)","v":68},{"$f":"SUM(K$3:K57)","v":71},{"$f":"SUM(L$3:L57)","v":32},{"$f":"SUM(M$3:M57)","v":59},{"$f":"SUM(N$3:N57)","v":68},{"$f":"SUM(O$3:O57)","v":73},{"$f":"SUM(P$3:P57)","v":62},{"$f":"SUM(Q$3:Q57)","v":95},{"$f":"SUM(R$3:R57)","v":60},{"$f":"SUM(S$3:S57)","v":74},{"$f":"SUM(T$3:T57)","v":65},{"$f":"SUM(U$3:U57)","v":61},{"$f":"SUM(V$3:V57)","v":67},{"$f":"SUM(W$3:W57)","v":72},{"$f":"SUM(X$3:X57)","v":71},{"$f":"SUM(Y$3:Y57)","v":80},{"$f":"SUM(Z$3:Z57)","v":56},{"$f":"SUM(AA$3:AA57)","v":48},{"$f":"SUM(AB$3:AB57)","v":86},{"$f":"SUM(AC$3:AC57)","v":64},{"$f":"SUM(AD$3:AD57)","v":76},{"$f":"SUM(AE$3:AE57)","v":64},{"$f":"SUM(AF$3:AF57)","v":64},{"$f":"SUM(AG$3:AG57)","v":46},{"$f":"SUM(AH$3:AH57)","v":81},{"$f":"SUM(AI$3:AI57)","v":101},{"$f":"SUM(AJ$3:AJ57)","v":6},{"$f":"SUM(AK$3:AK57)","v":24},{"$f":"SUM(AL$3:AL57)","v":80},{"$f":"SUM(AM$3:AM57)","v":53},{"$f":"SUM(AN$3:AN57)","v":68},{"$f":"SUM(AO$3:AO57)","v":31},{"$f":"SUM(AP$3:AP57)","v":88},{"$f":"SUM(AQ$3:AQ57)","v":53},{"$f":"SUM(AR$3:AR57)","v":95},{"$f":"SUM(AS$3:AS57)","v":70},{"$f":"SUM(AT$3:AT57)","v":73},{"$f":"SUM(AU$3:AU57)","v":50},{"$f":"SUM(AV$3:AV57)","v":41},{"$f":"SUM(AW$3:AW57)","v":56},{"$f":"SUM(AX$3:AX57)","v":66},{"$f":"SUM(AY$3:AY57)","v":11},{"$f":"SUM(AZ$3:AZ57)","v":25},{"$f":"SUM(BA$3:BA57)","v":46},{"$f":"SUM(BB$3:BB57)","v":66},{"$f":"SUM(BC$3:BC57)","v":71},{"$f":"SUM(BD$3:BD57)","v":66},{"$f":"SUM(BE$3:BE57)","v":61}]
[]
["Ten Pointers",null,null,null,null,null,null,null,{"$f":"COUNTIF(I3:I25,10)","v":0},{"$f":"COUNTIF(J3:J25,10)","v":3},2,1,3,1,2,2,5,2,3,3,2,2,3,3,1,3,1,4,1,3,2,2,1,3,7,0,1,2,1,3,0,6,2,4,2,4,0,1,2,1,0,0,1,3,4,2,2]

{"sheet":"September","index":4,"n_rows":44,"n_cols":57,"rows_kept":44,"cut":false,"hidden":false,"merged":[[1,2,1,5]]}
[null,null,null,null,null,null,null,null,"Aidan Scanlon","Alan Doyle","Andy Dunne","Breifne Earley","Callum Dunne","Caroline Carroll","Chris Hinchey","Ciaran O'Hart","Darragh Kenny","David Miley","David Moran","Davy Doyle","Dean Fletcher","Derek Kelly","Derek McDonald","Eamon Fox","Eoghan Brophy","Eoghan Farrelly","Fiachra O'Brolachain","Gary Donnelly","Gary Keating","Gary Fitzpatrick","Gary McGurk","Gearoid McIntyre","Gerry Draper","Gerry Moore","Graeme Buckley","Hugh Keller","Ian O'Reilly","Jay Thomas","Joe Behan","Joe Turner","John Brophy","Joseph Kavanagh","Josh Tobin","Keith Ryan","Kieran Harnett","Mark Welsh","Niall Carroll","Patrick Dempsey","Paul Moore","Richard Johnston","Seamus McGowan","Sean Keller","Sean O'Mairtin","Sean Taylor","Tom Keane","Tommy Hamill","Trevor Rankin"]
["Day","Date","Teams",null,null,null,"Time"]
["Fri","2020-09-04","Waterford",3,0,"St Patrick's Athletic","19:45:00",null,0,5,5,"-","-",0,0,0,5,5,5,0,0,0,0,0,0,5,0,5,0,0,5,5,5,0,0,"-","-",0,0,5,0,0,0,0,5,0,0,"-",0,0,"-","-",5,0,0,0,5]
["Sat","2020-09-05","Shamrock Rovers",1,0,"Bohemians","14:00:00",null,5,0,5,"-","-",10,0,5,5,0,5,5,5,0,5,10,5,10,5,0,0,0,0,0,0,0,0,"-","-",10,0,10,0,10,0,5,"-",10,0,"-",5,0,"-","-",5,0,5,0,5]
["Sat","2020-09-05","Shelbourne",1,1,"Cork City","17:00:00",null,0,5,10,"-","-",0,0,0,0,0,0,0,0,0,0,0,0,0,5,10,5,10,0,0,0,0,0,"-","-",0,0,0,0,0,0,0,"-",0,0,"-",0,0,"-","-",0,10,10,0,0]
["Mon","2020-09-07","Sligo Rovers",3,1,"Finn Harps","19:45:00",null,0,10,5,"-","-",5,5,0,5,5,"-",10,5,5,0,5,5,5,0,5,10,5,5,0,5,5,5,"-","-",5,5,5,5,5,5,0,"-",5,5,"-",5,0,"-","-",5,0,5,5,5]
["Fri","2020-09-11","Bohemians",0,2,"Waterford","17:45:00",null,0,0,0,"-","-",0,0,0,0,0,"-",0,0,0,0,0,0,0,0,0,0,0,0,0,0,0,0,"-","-",0,0,0,0,0,5,0,"-",0,0,"-",0,"-","-","-",0,0,0,0,0]
["Fri","2020-09-11","Dundalk",3,2,"Shelbourne","20:00:00",null,0,5,5,"-","-",5,5,0,0,5,"-",5,5,5,5,5,5,5,0,5,5,5,5,5,5,0,5,"-","-",5,0,5,5,5,0,5,"-",5,5,"-",5,"-","-","-",5,5,5,5,5]
["Sat","2020-09-12","Cork City",0,3,"Shamrock Rovers","14:00:00",null,5,5,5,"-","-",5,5,0,5,5,"-",5,5,5,0,5,10,5,5,5,0,5,5,0,5,0,5,"-","-",5,10,5,0,5,5,5,"-",5,10,"-",5,"-","-","-",5,10,5,5,5]
["Sat","2020-09-12","St Patrick's Athletic",0,0,"Sligo Rovers","17:00:00",null,0,0,10,"-","-",0,0,5,0,0,"-",5,5,5,0,0,0,0,0,0,0,0,5,0,10,0,0,"-","-",0,0,5,0,0,0,5,"-",0,5,"-",5,"-","-","-",5,0,0,5,5]
["Sun","2020-09-13","Finn Harps",0,0,"Derry City","17:00:00",null,5,0,0,"-","-",0,0,5,0,5,"-",0,0,0,0,0,0,5,0,5,0,0,0,5,0,5,0,"-","-",5,0,0,10,10,0,0,"-",0,0,"-",0,0,"-","-",5,0,0,0,5]
["Fri","2020-09-18","Derry City",0,0,"St Patrick's Athletic","17:45:00",null,0,0,0,"-","-",0,0,0,0,5,"-",5,0,0,0,0,0,0,5,5,5,0,5,5,0,5,5,"-","-",0,0,0,5,0,0,5,"-",0,0,"-",0,"-","-","-",0,0,0,0,0]
["Fri","2020-09-18","Sligo Rovers",0,1,"Bohemians","19:45:00",null,5,0,0,"-",0,0,0,0,0,0,"-",0,0,0,0,10,5,0,0,5,5,0,10,0,0,0,0,"-","-",0,0,0,0,0,0,0,"-",0,0,"-",0,"-","-","-",0,0,0,0,5]
["Sat","2020-09-19","Shelbourne",1,1,"Finn Harps","19:30:00",null,0,10,0,"-",10,0,0,10,0,0,"-",0,0,0,0,0,0,0,5,10,0,0,0,0,0,0,10,"-","-",0,0,0,0,0,0,0,"-",0,0,"-",0,"-","-","-",5,0,0,0,10]
["Mon","2020-09-21","Shamrock Rovers",6,1,"Waterford","20:00:00",null,5,5,5,"-",5,5,5,5,5,5,"-",5,5,5,5,5,5,5,5,5,0,5,5,5,5,5,5,"-","-",5,5,5,5,5,5,5,"-",5,5,"-",5,5,"-","-",5,5,5,5,5]
["Fri","2020-09-25","Bohemians",2,1,"Derry City","19:45:00",null,10,0,10,"-","-",5,5,5,5,5,10,5,5,0,5,5,5,5,0,10,5,10,5,5,5,10,0,"-","-",5,5,10,10,5,"-",10,"-",0,5,"-",5,"-","-","-",5,10,10,10,5]
["Sat","2020-09-26","Waterford",1,0,"Sligo Rovers","17:00:00",null,5,10,5,"-",0,0,0,0,0,0,0,0,0,0,5,0,0,"-",0,5,0,0,0,0,0,0,0,"-","-",10,0,0,10,0,"-",0,"-",0,10,"-",10,"-","-","-",0,0,0,5,0]
["Sat","2020-09-26","St Patrick's Athletic",2,0,"Shelbourne","19:30:00",null,0,0,10,"-",5,0,0,5,0,10,0,0,0,5,10,5,0,"-",0,0,0,0,5,0,0,0,0,"-","-",0,5,5,0,5,"-",0,"-",0,5,"-",10,"-","-","-",5,0,0,5,5]
["Sun","2020-09-27","Finn Harps",1,1,"Cork City","17:00:00",null,0,0,10,"-",0,0,0,10,0,0,10,0,0,0,0,0,0,"-",0,0,0,10,0,0,0,0,5,"-","-",0,0,0,0,5,"-",0,"-",0,10,"-",0,"-","-","-",0,0,10,0,10]
["Sun","2020-09-27","Dundalk",0,4,"Shamrock Rovers","19:30:00",null,5,0,5,"-",5,0,5,0,5,5,0,5,5,5,0,5,5,"-",5,0,0,5,5,0,0,0,0,"-","-",5,5,0,0,5,"-",5,"-",5,0,"-",5,"-","-","-",0,5,5,0,0]
["Tue","2020-09-29","Sligo Rovers",1,0,"Derry City","19:45:00",null,0,5,5,"-",0,0,5,5,10,5,5,5,0,0,5,10,5,"-",0,5,0,0,0,0,5,0,10,"-","-",0,0,10,0,5,"-",0,"-",0,10,"-",5,"-","-","-",0,10,0,5,0]
[]
["Goalscorers"]
["Aaron Greene - Shamrock Rovers",null,null,{"$f":"COUNT(H24:DK24)","v":26},{"$f":"0+2+1+0","v":3},null,null,null,null,{"$f":"2*$E24","v":6},{"$f":"2*$E24","v":6},null,null,null,null,{"$f":"2*$E24","v":6},{"$f":"2*$E24","v":6},null,null,{"$f":"2*$E24","v":6},null,null,{"$f":"2*$E24","v":6},null,null,{"$f":"2*$E24","v":6},{"$f":"2*$E24","v":6},null,{"$f":"2*$E24","v":6},null,{"$f":"2*$E24","v":6},{"$f":"2*$E24","v":6},{"$f":"2*$E24","v":6},null,{"$f":"2*$E24","v":6},null,{"$f":"2*$E24","v":6},{"$f":"2*$E24","v":6},null,{"$f":"2*$E24","v":6},null,{"$f":"2*$E24","v":6},null,{"$f":"2*$E24","v":6},null,{"$f":"2*$E24","v":6},{"$f":"2*$E24","v":6},null,{"$f":"2*$E24","v":6},null,null,{"$f":"2*$E24","v":6},null,{"$f":"2*$E24","v":6},{"$f":"2*$E24","v":6},{"$f":"2*$E24","v":6},{"$f":"2*$E24","v":6}]
["Aaron McEneff - Shamrock Rovers",null,null,8,{"$f":"0+0+0+1","v":1},null,null,null,null,null,null,null,{"$f":"2*$E25","v":2},{"$f":"2*$E25","v":2},null,null,null,{"$f":"2*$E25","v":2},null,null,null,null,null,null,null,{"$f":"2*$E25","v":2},null,{"$f":"2*$E25","v":2},null,null,null,null,null,{"$f":"2*$E25","v":2},null,null,null,null,null,null,null,null,null,{"$f":"2*$E25","v":2},null,null,null,null,null,{"$f":"2*$E25","v":2}]
["Daniel Kelly - Dundalk",null,null,7,{"$f":"0+0","v":0},null,null,null,null,{"$f":"2*$E26","v":0},null,{"$f":"2*$E26","v":0},{"$f":"2*$E26","v":0},null,null,null,null,null,{"$f":"2*$E26","v":0},null,null,null,null,null,null,null,null,null,null,null,null,{"$f":"2*$E26","v":0},null,null,null,null,null,null,null,null,null,null,null,null,null,{"$f":"2*$E26","v":0},null,null,null,null,null,{"$f":"2*$E26","v":0}]
["Dinny Corcoran - Bohemians",null,null,23,{"$f":"0+0+0+0","v":0},null,null,null,null,null,null,null,null,null,null,{"$f":"2*$E27","v":0},null,{"$f":"2*$E27","v":0},{"$f":"2*$E27","v":0},null,{"$f":"2*$E27","v":0},{"$f":"2*$E27","v":0},null,{"$f":"2*$E27","v":0},null,null,{"$f":"2*$E27","v":0},{"$f":"2*$E27","v":0},{"$f":"2*$E27","v":0},{"$f":"2*$E27","v":0},{"$f":"2*$E27","v":0},null,null,{"$f":"2*$E27","v":0},null,{"$f":"2*$E27","v":0},{"$f":"2*$E27","v":0},null,null,{"$f":"2*$E27","v":0},null,{"$f":"2*$E27","v":0},{"$f":"2*$E27","v":0},null,null,null,null,{"$f":"2*$E27","v":0},null,{"$f":"2*$E27","v":0},{"$f":"2*$E27","v":0},{"$f":"2*$E27","v":0},{"$f":"2*$E27","v":0},null,{"$f":"2*$E27","v":0}]
["Graham Cummins - Cork City",null,null,2,{"$f":"0+0+0","v":0},null,null,null,{"$f":"2*$E28","v":0},null,null,{"$f":"2*$E28","v":0}]
["Jack Byrne - Shamrock Rovers",null,null,11,{"$f":"0+0+1+2","v":3},null,null,null,{"$f":"2*$E29","v":6},null,null,null,{"$f":"2*$E29","v":6},{"$f":"2*$E29","v":6},{"$f":"2*$E29","v":6},null,null,null,null,{"$f":"2*$E29","v":6},null,null,{"$f":"2*$E29","v":6},null,null,null,null,null,null,null,null,null,null,null,null,null,null,null,{"$f":"2*$E29","v":6},null,{"$f":"2*$E29","v":6},null,null,null,{"$f":"2*$E29","v":6},null,null,null,null,null,null,null,{"$f":"2*$E29","v":6},null,null,null,{"$f":"2*$E29","v":6}]
["Jaze Kabia - Shelbourne",null,null,3,{"$f":"0+0","v":0},null,null,null,null,null,null,null,null,null,null,null,null,null,null,null,null,null,{"$f":"2*$E30","v":0},null,{"$f":"2*$E30","v":0},null,null,null,null,null,null,null,null,null,null,null,null,null,null,null,{"$f":"2*$E30","v":0}]
["Michael Duffy - Dundalk",null,null,21,{"$f":"1+0","v":1},null,null,null,null,null,{"$f":"2*$E31","v":2},{"$f":"2*$E31","v":2},null,null,{"$f":"2*$E31","v":2},{"$f":"2*$E31","v":2},{"$f":"2*$E31","v":2},null,null,null,{"$f":"2*$E31","v":2},null,null,{"$f":"2*$E31","v":2},{"$f":"2*$E31","v":2},null,null,null,null,{"$f":"2*$E31","v":2},null,null,{"$f":"2*$E31","v":2},null,{"$f":"2*$E31","v":2},{"$f":"2*$E31","v":2},null,2,2,null,null,null,null,null,null,null,{"$f":"2*$E31","v":2},2,2,null,{"$f":"2*$E31","v":2},null,null,{"$f":"2*$E31","v":2},{"$f":"2*$E31","v":2},{"$f":"2*$E31","v":2}]
["Patrick Hoban - Dundalk",null,null,41,{"$f":"0+0","v":0},null,null,null,{"$f":"2*$E32","v":0},{"$f":"2*$E32","v":0},{"$f":"2*$E32","v":0},null,null,{"$f":"2*$E32","v":0},{"$f":"2*$E32","v":0},null,{"$f":"2*$E32","v":0},{"$f":"2*$E32","v":0},{"$f":"2*$E32","v":0},{"$f":"2*$E32","v":0},{"$f":"2*$E32","v":0},{"$f":"2*$E32","v":0},null,{"$f":"2*$E32","v":0},{"$f":"2*$E32","v":0},{"$f":"2*$E32","v":0},{"$f":"2*$E32","v":0},{"$f":"2*$E32","v":0},{"$f":"2*$E32","v":0},{"$f":"2*$E32","v":0},{"$f":"2*$E32","v":0},{"$f":"2*$E32","v":0},{"$f":"2*$E32","v":0},{"$f":"2*$E32","v":0},0,{"$f":"2*$E32","v":0},{"$f":"2*$E32","v":0},0,0,0,0,0,0,0,0,{"$f":"2*$E32","v":0},0,0,0,null,null,null,{"$f":"2*$E32","v":0},{"$f":"2*$E32","v":0},null,{"$f":"2*$E32","v":0},{"$f":"2*$E32","v":0}]
["Walter Figueira - Derry City",null,null,5,{"$f":"0+0+0","v":0},null,null,null,null,null,null,null,null,null,null,null,null,null,null,null,null,{"$f":"2*$E33","v":0},null,null,null,null,null,null,null,null,null,null,null,null,null,null,null,null,null,null,null,null,{"$f":"2*$E33","v":0},null,{"$f":"2*$E33","v":0},null,null,null,null,{"$f":"2*$E33","v":0},{"$f":"2*$E33","v":0}]
[]
["Golden Gloves"]
["Alan Mannus - Shamrock Rovers",null,null,{"$f":"COUNT(H36:DK36)","v":14},{"$f":"1+1+0+1","v":3},null,null,null,null,{"$f":"2*$E36","v":6},null,null,null,null,null,null,{"$f":"2*$E36","v":6},{"$f":"2*$E36","v":6},null,{"$f":"2*$E36","v":6},null,{"$f":"2*$E36","v":6},null,null,{"$f":"2*$E36","v":6},null,{"$f":"2*$E36","v":6},null,null,null,null,null,null,null,null,null,null,{"$f":"2*$E36","v":6},null,{"$f":"2*$E36","v":6},null,{"$f":"2*$E36","v":6},null,{"$f":"2*$E36","v":6},null,{"$f":"2*$E36","v":6},{"$f":"2*$E36","v":6},null,null,null,null,null,null,null,{"$f":"2*$E36","v":6}]
["Conor Kearns - St Patrick's Athletic",null,null,{"$f":"COUNT(H37:DK37)","v":1},{"$f":"0+0","v":0},null,null,null,{"$f":"2*$E37","v":0}]
["Gary Rogers - Dundalk",null,null,{"$f":"COUNT(H38:DK38)","v":24},{"$f":"0+0","v":0},null,null,null,null,null,{"$f":"2*$E38","v":0},0,0,0,0,0,null,null,null,null,{"$f":"2*$E38","v":0},null,null,{"$f":"2*$E38","v":0},null,{"$f":"2*$E38","v":0},null,null,null,{"$f":"2*$E38","v":0},0,0,0,0,0,null,null,null,{"$f":"2*$E38","v":0},null,{"$f":"2*$E38","v":0},null,{"$f":"2*$E38","v":0},null,null,null,null,{"$f":"2*$E38","v":0},{"$f":"2*$E38","v":0},null,{"$f":"2*$E38","v":0},null,null,{"$f":"2*$E38","v":0},null,{"$f":"2*$E38","v":0},{"$f":"2*$E38","v":0}]
["James Talbot - Bohemians",null,null,{"$f":"COUNT(H39:DK39)","v":9},{"$f":"0+0+1+0","v":1},null,null,null,null,null,null,null,null,null,null,null,null,null,{"$f":"2*$E39","v":2},null,null,null,{"$f":"2*$E39","v":2},null,null,null,null,{"$f":"2*$E39","v":2},{"$f":"2*$E39","v":2},null,null,null,null,null,null,2,{"$f":"2*$E39","v":2},null,null,null,null,null,null,null,{"$f":"2*$E39","v":2},null,null,null,null,null,null,{"$f":"2*$E39","v":2},{"$f":"2*$E39","v":2}]
["Peter Cherrie - Derry City",null,null,{"$f":"COUNT(H40:DK40)","v":1},{"$f":"1+1+0+0","v":2},null,null,null,null,null,null,null,null,null,null,null,null,null,null,null,null,null,null,null,null,null,null,null,null,null,null,null,null,null,null,null,null,null,null,null,null,null,null,null,null,null,null,null,null,{"$f":"2*$E40","v":4}]
[]
["Grand Total - September",null,null,null,null,null,null,null,{"$f":"SUM(I$3:I41)","v":51},{"$f":"SUM(J$3:J41)","v":72},{"$f":"SUM(K$3:K41)","v":103},{"$f":"SUM(L$3:L41)","v":2},{"$f":"SUM(M$3:M41)","v":33},{"$f":"SUM(N$3:N41)","v":43},{"$f":"SUM(O$3:O41)","v":43},{"$f":"SUM(P$3:P41)","v":63},{"$f":"SUM(Q$3:Q41)","v":59},{"$f":"SUM(R$3:R41)","v":68},{"$f":"SUM(S$3:S41)","v":37},{"$f":"SUM(T$3:T41)","v":73},{"$f":"SUM(U$3:U41)","v":42},{"$f":"SUM(V$3:V41)","v":41},{"$f":"SUM(W$3:W41)","v":54},{"$f":"SUM(X$3:X41)","v":67},{"$f":"SUM(Y$3:Y41)","v":58},{"$f":"SUM(Z$3:Z41)","v":53},{"$f":"SUM(AA$3:AA41)","v":47},{"$f":"SUM(AB$3:AB41)","v":84},{"$f":"SUM(AC$3:AC41)","v":43},{"$f":"SUM(AD$3:AD41)","v":57},{"$f":"SUM(AE$3:AE41)","v":66},{"$f":"SUM(AF$3:AF41)","v":36},{"$f":"SUM(AG$3:AG41)","v":53},{"$f":"SUM(AH$3:AH41)","v":32},{"$f":"SUM(AI$3:AI41)","v":58},{"$f":"SUM(AJ$3:AJ41)","v":4},{"$f":"SUM(AK$3:AK41)","v":8},{"$f":"SUM(AL$3:AL41)","v":69},{"$f":"SUM(AM$3:AM41)","v":43},{"$f":"SUM(AN$3:AN41)","v":77},{"$f":"SUM(AO$3:AO41)","v":56},{"$f":"SUM(AP$3:AP41)","v":77},{"$f":"SUM(AQ$3:AQ41)","v":20},{"$f":"SUM(AR$3:AR41)","v":59},{"$f":"SUM(AS$3:AS41)","v":13},{"$f":"SUM(AT$3:AT41)","v":47},{"$f":"SUM(AU$3:AU41)","v":84},{"$f":"SUM(AV$3:AV41)","v":2},{"$f":"SUM(AW$3:AW41)","v":73},{"$f":"SUM(AX$3:AX41)","v":11},{"$f":"SUM(AY$3:AY41)","v":2},{"$f":"SUM(AZ$3:AZ41)","v":8},{"$f":"SUM(BA$3:BA41)","v":63},{"$f":"SUM(BB$3:BB41)","v":63},{"$f":"SUM(BC$3:BC41)","v":74},{"$f":"SUM(BD$3:BD41)","v":58},{"$f":"SUM(BE$3:BE41)","v":87}]
[]
["Ten Pointers",null,null,null,null,null,null,null,{"$f":"COUNTIF(I3:I21,10)","v":1},{"$f":"COUNTIF(J3:J21,10)","v":3},{"$f":"COUNTIF(K3:K21,10)","v":5},0,1,1,0,2,1,1,2,1,0,0,1,3,1,1,0,3,1,3,1,0,1,1,2,0,0,2,1,3,3,2,0,1,0,1,4,0,2,0,0,0,0,4,3,1,2]

{"sheet":"October","index":5,"n_rows":50,"n_cols":57,"rows_kept":50,"cut":false,"hidden":false,"merged":[[1,2,1,5]]}
[null,null,null,null,null,null,null,null,"Aidan Scanlon","Alan Doyle","Andy Dunne","Breifne Earley","Callum Dunne","Caroline Carroll","Chris Hinchey","Ciaran O'Hart","Darragh Kenny","David Miley","David Moran","Davy Doyle","Dean Fletcher","Derek Kelly","Derek McDonald","Eamon Fox","Eoghan Brophy","Eoghan Farrelly","Fiachra O'Brolachain","Gary Donnelly","Gary Keating","Gary Fitzpatrick","Gary McGurk","Gearoid McIntyre","Gerry Draper","Gerry Moore","Graeme Buckley","Hugh Keller","Ian O'Reilly","Jay Thomas","Joe Behan","Joe Turner","John Brophy","Joseph Kavanagh","Josh Tobin","Keith Ryan","Kieran Harnett","Mark Welsh","Niall Carroll","Patrick Dempsey","Paul Moore","Richard Johnston","Seamus McGowan","Sean Keller","Sean O'Mairtin","Sean Taylor","Tom Keane","Tommy Hamill","Trevor Rankin"]
["Day","Date","Teams",null,null,null,"Time"]
["Fri","2020-10-02","Derry City",2,0,"Waterford","17:45:00",null,0,0,5,"-","-",10,0,0,0,5,"-",0,5,0,10,5,0,"-",0,0,0,0,5,5,0,5,5,"-","-",0,10,0,0,0,0,0,"-",0,5,"-",10,"-","-","-",10,0,0,5,0]
["Fri","2010-10-02","Shamrock Rovers",4,0,"Sligo Rovers","19:45:00",null,5,5,5,"-",5,5,5,5,5,5,"-",5,5,5,5,5,5,"-",5,5,5,5,5,5,5,5,0,"-","-",5,5,5,5,5,5,5,"-",5,5,"-",5,5,"-","-",5,5,5,5,5]
["Sat","2010-10-03","Cork City",1,2,"St Patrick's Athletic","17:00:00",null,5,0,0,"-",0,10,0,0,0,0,"-",5,0,0,10,5,5,"-",0,0,5,0,10,0,0,0,5,"-","-",0,5,0,10,5,0,10,"-",5,0,"-",10,0,"-","-",10,0,0,0,0]
["Sat","2010-10-03","Shelbourne",1,3,"Bohemians","19:30:00",null,0,0,5,"-",5,5,5,0,5,5,"-",5,5,5,0,5,5,"-",5,5,5,5,5,5,5,0,5,"-","-",5,0,5,5,5,0,5,"-",0,5,"-",0,5,"-","-",5,5,5,5,5]
["Sun","2020-10-04","Dundalk",0,0,"Finn Harps","17:00:00",null,0,0,0,"-",0,0,0,0,0,0,"-",0,0,0,0,0,0,"-",5,5,0,0,0,0,0,0,0,"-","-",0,0,0,0,0,0,0,"-",0,0,"-",0,0,"-","-",0,0,0,0,0]
["Fri","2020-10-09","Bohemians",null,null,"Cork City","17:45:00"]
["Fri","2020-10-09","St Patrick's Athletic",null,null,"Dundalk","19:45:00"]
["Sat","2020-10-10","Waterford",null,null,"Shelbourne","17:00:00"]
["Tue","2020-10-13","Cork City",null,null,"Dundalk","19:45:00"]
["Fri","2020-10-16","Dundalk",null,null,"Bohemians","17:45:00"]
["Fri","2020-10-16","Shamrock Rovers",null,null,"Derry City","19:45:00"]
["Sat","2020-10-17","Cork City",null,null,"Waterford","17:00:00"]
["Sat","2020-10-17","Finn Harps",null,null,"St Patrick's Athletic","20:00:00"]
["Sun","2020-10-18","Shelbourne",null,null,"Sligo Rovers","17:00:00"]
["Mon","2020-10-19","Derry City",null,null,"Dundalk","19:45:00"]
["Fri","2020-10-23","Bohemians",null,null,"Finn Harps","17:45:00"]
["Fri","2020-10-23","Shamrock Rovers",null,null,"St Patrick's Athletic","19:45:00"]
["Sat","2020-10-24","Sligo Rovers",null,null,"Cork City","17:00:00"]
["Sat","2020-10-24","Waterford",null,null,"Dundalk","19:30:00"]
["Sun","2020-10-25","Derry City",null,null,"Shelbourne","17:00:00"]
["Fri","2020-10-30","Cork City",null,null,"Derry City","19:45:00"]
["Fri","2020-10-30","Dundalk",null,null,"Sligo Rovers","19:45:00"]
["Fri","2020-10-30","Finn Harps",null,null,"Waterford","19:45:00"]
["Fri","2020-10-30","Shelbourne",null,null,"Shamrock Rovers","19:45:00"]
["Fri","2020-10-30","St Patrick's Athletic",null,null,"Bohemians","19:45:00"]
[]
["Goalscorers"]
["Aaron Greene - Shamrock Rovers",null,null,{"$f":"COUNT(H30:DK30)","v":26},{"$f":"0","v":0},null,null,null,null,{"$f":"2*$E30","v":0},{"$f":"2*$E30","v":0},null,null,null,null,{"$f":"2*$E30","v":0},{"$f":"2*$E30","v":0},null,null,{"$f":"2*$E30","v":0},null,null,{"$f":"2*$E30","v":0},null,null,{"$f":"2*$E30","v":0},{"$f":"2*$E30","v":0},null,{"$f":"2*$E30","v":0},null,{"$f":"2*$E30","v":0},{"$f":"2*$E30","v":0},{"$f":"2*$E30","v":0},null,{"$f":"2*$E30","v":0},null,{"$f":"2*$E30","v":0},{"$f":"2*$E30","v":0},null,{"$f":"2*$E30","v":0},null,{"$f":"2*$E30","v":0},null,{"$f":"2*$E30","v":0},null,{"$f":"2*$E30","v":0},{"$f":"2*$E30","v":0},null,{"$f":"2*$E30","v":0},null,null,{"$f":"2*$E30","v":0},null,{"$f":"2*$E30","v":0},{"$f":"2*$E30","v":0},{"$f":"2*$E30","v":0},{"$f":"2*$E30","v":0}]
["Aaron McEneff - Shamrock Rovers",null,null,8,{"$f":"0","v":0},null,null,null,null,null,null,null,{"$f":"2*$E31","v":0},{"$f":"2*$E31","v":0},null,null,null,{"$f":"2*$E31","v":0},null,null,null,null,null,null,null,{"$f":"2*$E31","v":0},null,{"$f":"2*$E31","v":0},null,null,null,null,null,{"$f":"2*$E31","v":0},null,null,null,null,null,null,null,null,null,{"$f":"2*$E31","v":0},null,null,null,null,null,{"$f":"2*$E31","v":0}]
["Daniel Kelly - Dundalk",null,null,7,{"$f":"0","v":0},null,null,null,null,{"$f":"2*$E32","v":0},null,{"$f":"2*$E32","v":0},{"$f":"2*$E32","v":0},null,null,null,null,null,{"$f":"2*$E32","v":0},null,null,null,null,null,null,null,null,null,null,null,null,{"$f":"2*$E32","v":0},null,null,null,null,null,null,null,null,null,null,null,null,null,{"$f":"2*$E32","v":0},null,null,null,null,null,{"$f":"2*$E32","v":0}]
["Dinny Corcoran - Bohemians",null,null,23,{"$f":"0","v":0},null,null,null,null,null,null,null,null,null,null,{"$f":"2*$E33","v":0},null,{"$f":"2*$E33","v":0},{"$f":"2*$E33","v":0},null,{"$f":"2*$E33","v":0},{"$f":"2*$E33","v":0},null,{"$f":"2*$E33","v":0},null,null,{"$f":"2*$E33","v":0},{"$f":"2*$E33","v":0},{"$f":"2*$E33","v":0},{"$f":"2*$E33","v":0},{"$f":"2*$E33","v":0},null,null,{"$f":"2*$E33","v":0},null,{"$f":"2*$E33","v":0},{"$f":"2*$E33","v":0},null,null,{"$f":"2*$E33","v":0},null,{"$f":"2*$E33","v":0},{"$f":"2*$E33","v":0},null,null,null,null,{"$f":"2*$E33","v":0},null,{"$f":"2*$E33","v":0},{"$f":"2*$E33","v":0},{"$f":"2*$E33","v":0},{"$f":"2*$E33","v":0},null,{"$f":"2*$E33","v":0}]
["Graham Cummins - Cork City",null,null,2,{"$f":"0","v":0},null,null,null,{"$f":"2*$E34","v":0},null,null,{"$f":"2*$E34","v":0}]
["Jack Byrne - Shamrock Rovers",null,null,11,{"$f":"1","v":1},null,null,null,{"$f":"2*$E35","v":2},null,null,null,{"$f":"2*$E35","v":2},{"$f":"2*$E35","v":2},{"$f":"2*$E35","v":2},null,null,null,null,{"$f":"2*$E35","v":2},null,null,{"$f":"2*$E35","v":2},null,null,null,null,null,null,null,null,null,null,null,null,null,null,null,{"$f":"2*$E35","v":2},null,{"$f":"2*$E35","v":2},null,null,null,{"$f":"2*$E35","v":2},null,null,null,null,null,null,null,{"$f":"2*$E35","v":2},null,null,null,{"$f":"2*$E35","v":2}]
["Jaze Kabia - Shelbourne",null,null,3,{"$f":"0","v":0},null,null,null,null,null,null,null,null,null,null,null,null,null,null,null,null,null,{"$f":"2*$E36","v":0},null,{"$f":"2*$E36","v":0},null,null,null,null,null,null,null,null,null,null,null,null,null,null,null,{"$f":"2*$E36","v":0}]
["Michael Duffy - Dundalk",null,null,21,{"$f":"0","v":0},null,null,null,null,null,{"$f":"2*$E37","v":0},{"$f":"2*$E37","v":0},null,null,{"$f":"2*$E37","v":0},{"$f":"2*$E37","v":0},{"$f":"2*$E37","v":0},null,null,null,{"$f":"2*$E37","v":0},null,null,{"$f":"2*$E37","v":0},{"$f":"2*$E37","v":0},null,null,null,null,{"$f":"2*$E37","v":0},null,null,{"$f":"2*$E37","v":0},null,{"$f":"2*$E37","v":0},{"$f":"2*$E37","v":0},null,0,0,null,null,null,null,null,null,null,{"$f":"2*$E37","v":0},0,0,null,{"$f":"2*$E37","v":0},null,null,{"$f":"2*$E37","v":0},{"$f":"2*$E37","v":0},{"$f":"2*$E37","v":0}]
["Patrick Hoban - Dundalk",null,null,41,{"$f":"0","v":0},null,null,null,{"$f":"2*$E38","v":0},{"$f":"2*$E38","v":0},{"$f":"2*$E38","v":0},null,null,{"$f":"2*$E38","v":0},{"$f":"2*$E38","v":0},null,{"$f":"2*$E38","v":0},{"$f":"2*$E38","v":0},{"$f":"2*$E38","v":0},{"$f":"2*$E38","v":0},{"$f":"2*$E38","v":0},{"$f":"2*$E38","v":0},null,{"$f":"2*$E38","v":0},{"$f":"2*$E38","v":0},{"$f":"2*$E38","v":0},{"$f":"2*$E38","v":0},{"$f":"2*$E38","v":0},{"$f":"2*$E38","v":0},{"$f":"2*$E38","v":0},{"$f":"2*$E38","v":0},{"$f":"2*$E38","v":0},{"$f":"2*$E38","v":0},{"$f":"2*$E38","v":0},0,{"$f":"2*$E38","v":0},{"$f":"2*$E38","v":0},0,0,0,0,0,0,0,0,{"$f":"2*$E38","v":0},0,0,0,null,null,null,{"$f":"2*$E38","v":0},{"$f":"2*$E38","v":0},null,{"$f":"2*$E38","v":0},{"$f":"2*$E38","v":0}]
["Walter Figueira - Derry City",null,null,5,{"$f":"0","v":0},null,null,null,null,null,null,null,null,null,null,null,null,null,null,null,null,{"$f":"2*$E39","v":0},null,null,null,null,null,null,null,null,null,null,null,null,null,null,null,null,null,null,null,null,{"$f":"2*$E39","v":0},null,{"$f":"2*$E39","v":0},null,null,null,null,{"$f":"2*$E39","v":0},{"$f":"2*$E39","v":0}]
[]
["Golden Gloves"]
["Alan Mannus - Shamrock Rovers",null,null,{"$f":"COUNT(H42:DK42)","v":14},{"$f":"1","v":1},null,null,null,null,{"$f":"2*$E42","v":2},null,null,null,null,null,null,{"$f":"2*$E42","v":2},{"$f":"2*$E42","v":2},null,{"$f":"2*$E42","v":2},null,{"$f":"2*$E42","v":2},null,null,{"$f":"2*$E42","v":2},null,{"$f":"2*$E42","v":2},null,null,null,null,null,null,null,null,null,null,{"$f":"2*$E42","v":2},null,{"$f":"2*$E42","v":2},null,{"$f":"2*$E42","v":2},null,{"$f":"2*$E42","v":2},null,{"$f":"2*$E42","v":2},{"$f":"2*$E42","v":2},null,null,null,null,null,null,null,{"$f":"2*$E42","v":2}]
["Conor Kearns - St Patrick's Athletic",null,null,{"$f":"COUNT(H43:DK43)","v":1},{"$f":"0","v":0},null,null,null,{"$f":"2*$E43","v":0}]
["Gary Rogers - Dundalk",null,null,{"$f":"COUNT(H44:DK44)","v":24},{"$f":"0","v":0},null,null,null,null,null,{"$f":"2*$E44","v":0},0,0,0,0,0,null,null,null,null,{"$f":"2*$E44","v":0},null,null,{"$f":"2*$E44","v":0},null,{"$f":"2*$E44","v":0},null,null,null,{"$f":"2*$E44","v":0},0,0,0,0,0,null,null,null,{"$f":"2*$E44","v":0},null,{"$f":"2*$E44","v":0},null,{"$f":"2*$E44","v":0},null,null,null,null,{"$f":"2*$E44","v":0},{"$f":"2*$E44","v":0},null,{"$f":"2*$E44","v":0},null,null,{"$f":"2*$E44","v":0},null,{"$f":"2*$E44","v":0},{"$f":"2*$E44","v":0}]
["James Talbot - Bohemians",null,null,{"$f":"COUNT(H45:DK45)","v":9},{"$f":"0","v":0},null,null,null,null,null,null,null,null,null,null,null,null,null,{"$f":"2*$E45","v":0},null,null,null,{"$f":"2*$E45","v":0},null,null,null,null,{"$f":"2*$E45","v":0},{"$f":"2*$E45","v":0},null,null,null,null,null,null,0,{"$f":"2*$E45","v":0},null,null,null,null,null,null,null,{"$f":"2*$E45","v":0},null,null,null,null,null,null,{"$f":"2*$E45","v":0},{"$f":"2*$E45","v":0}]
["Peter Cherrie - Derry City",null,null,{"$f":"COUNT(H46:DK46)","v":1},{"$f":"1","v":1},null,null,null,null,null,null,null,null,null,null,null,null,null,null,null,null,null,null,null,null,null,null,null,null,null,null,null,null,null,null,null,null,null,null,null,null,null,null,null,null,null,null,null,null,{"$f":"2*$E46","v":2}]
[]
["Grand Total - October",null,null,null,null,null,null,null,{"$f":"SUM(I$3:I47)","v":12},{"$f":"SUM(J$3:J47)","v":7},{"$f":"SUM(K$3:K47)","v":15},{"$f":"SUM(L$3:L47)","v":0},{"$f":"SUM(M$3:M47)","v":12},{"$f":"SUM(N$3:N47)","v":32},{"$f":"SUM(O$3:O47)","v":12},{"$f":"SUM(P$3:P47)","v":5},{"$f":"SUM(Q$3:Q47)","v":12},{"$f":"SUM(R$3:R47)","v":17},{"$f":"SUM(S$3:S47)","v":0},{"$f":"SUM(T$3:T47)","v":19},{"$f":"SUM(U$3:U47)","v":15},{"$f":"SUM(V$3:V47)","v":12},{"$f":"SUM(W$3:W47)","v":27},{"$f":"SUM(X$3:X47)","v":20},{"$f":"SUM(Y$3:Y47)","v":17},{"$f":"SUM(Z$3:Z47)","v":0},{"$f":"SUM(AA$3:AA47)","v":17},{"$f":"SUM(AB$3:AB47)","v":15},{"$f":"SUM(AC$3:AC47)","v":15},{"$f":"SUM(AD$3:AD47)","v":10},{"$f":"SUM(AE$3:AE47)","v":25},{"$f":"SUM(AF$3:AF47)","v":15},{"$f":"SUM(AG$3:AG47)","v":10},{"$f":"SUM(AH$3:AH47)","v":10},{"$f":"SUM(AI$3:AI47)","v":15},{"$f":"SUM(AJ$3:AJ47)","v":0},{"$f":"SUM(AK$3:AK47)","v":0},{"$f":"SUM(AL$3:AL47)","v":12},{"$f":"SUM(AM$3:AM47)","v":22},{"$f":"SUM(AN$3:AN47)","v":12},{"$f":"SUM(AO$3:AO47)","v":22},{"$f":"SUM(AP$3:AP47)","v":17},{"$f":"SUM(AQ$3:AQ47)","v":5},{"$f":"SUM(AR$3:AR47)","v":22},{"$f":"SUM(AS$3:AS47)","v":2},{"$f":"SUM(AT$3:AT47)","v":12},{"$f":"SUM(AU$3:AU47)","v":17},{"$f":"SUM(AV$3:AV47)","v":0},{"$f":"SUM(AW$3:AW47)","v":25},{"$f":"SUM(AX$3:AX47)","v":12},{"$f":"SUM(AY$3:AY47)","v":0},{"$f":"SUM(AZ$3:AZ47)","v":0},{"$f":"SUM(BA$3:BA47)","v":32},{"$f":"SUM(BB$3:BB47)","v":10},{"$f":"SUM(BC$3:BC47)","v":12},{"$f":"SUM(BD$3:BD47)","v":15},{"$f":"SUM(BE$3:BE47)","v":12}]
[]
["Ten Pointers",null,null,null,null,null,null,null,{"$f":"COUNTIF(I2:I27,10)","v":0},{"$f":"COUNTIF(J2:J27,10)","v":0},0,0,0,2,0,0,0,0,0,0,0,0,2,0,0,0,0,0,0,0,1,0,0,0,0,0,0,0,1,0,1,0,0,1,0,0,0,0,2,0,0,0,2,0,0,0,0]

{"sheet":"Ten Point Table","index":6,"n_rows":51,"n_cols":9,"rows_kept":51,"cut":false,"hidden":false,"merged":[]}
[]
["No.","Name","Team Name","2020-02-01","2020-03-01","2020-08-01","2020-09-01","2020-10-01","Total"]
[1,"Joseph Kavanagh","Joey's Invincibles",{"$f":"HLOOKUP(B3,February!$I$1:$BE$54,54,FALSE)","v":4},{"$f":"HLOOKUP(B3,March!$I$1:$BE$42,42,FALSE)","v":0},{"$f":"HLOOKUP(B3,'July & August'!$I$1:$BE$60,60,FALSE)","v":6},{"$f":"HLOOKUP(B3,September!$I$1:$BE$44,44,FALSE)","v":2},{"$f":"HLOOKUP(B3,October!$I$1:$BE$50,50,FALSE)","v":0},{"$f":"SUM(D3:H3)","v":12}]
[2,"Caroline Carroll","Tarzan's 11",{"$f":"HLOOKUP(B4,February!$I$1:$BE$54,54,FALSE)","v":6},{"$f":"HLOOKUP(B4,March!$I$1:$BE$42,42,FALSE)","v":0},{"$f":"HLOOKUP(B4,'July & August'!$I$1:$BE$60,60,FALSE)","v":1},{"$f":"HLOOKUP(B4,September!$I$1:$BE$44,44,FALSE)","v":1},{"$f":"HLOOKUP(B4,October!$I$1:$BE$50,50,FALSE)","v":2},{"$f":"SUM(D4:H4)","v":10}]
[3,"Eamon Fox","Culchies United",{"$f":"HLOOKUP(B5,February!$I$1:$BE$54,54,FALSE)","v":4},{"$f":"HLOOKUP(B5,March!$I$1:$BE$42,42,FALSE)","v":0},{"$f":"HLOOKUP(B5,'July & August'!$I$1:$BE$60,60,FALSE)","v":3},{"$f":"HLOOKUP(B5,September!$I$1:$BE$44,44,FALSE)","v":3},{"$f":"HLOOKUP(B5,October!$I$1:$BE$50,50,FALSE)","v":0},{"$f":"SUM(D5:H5)","v":10}]
[4,"Gary Fitzpatrick","Cabo Ultra's",{"$f":"HLOOKUP(B6,February!$I$1:$BE$54,54,FALSE)","v":4},{"$f":"HLOOKUP(B6,March!$I$1:$BE$42,42,FALSE)","v":0},{"$f":"HLOOKUP(B6,'July & August'!$I$1:$BE$60,60,FALSE)","v":3},{"$f":"HLOOKUP(B6,September!$I$1:$BE$44,44,FALSE)","v":3},{"$f":"HLOOKUP(B6,October!$I$1:$BE$50,50,FALSE)","v":0},{"$f":"SUM(D6:H6)","v":10}]
[5,"Graeme Buckley","Canyoneroes",{"$f":"HLOOKUP(B7,February!$I$1:$BE$54,54,FALSE)","v":0},{"$f":"HLOOKUP(B7,March!$I$1:$BE$42,42,FALSE)","v":1},{"$f":"HLOOKUP(B7,'July & August'!$I$1:$BE$60,60,FALSE)","v":7},{"$f":"HLOOKUP(B7,September!$I$1:$BE$44,44,FALSE)","v":2},{"$f":"HLOOKUP(B7,October!$I$1:$BE$50,50,FALSE)","v":0},{"$f":"SUM(D7:H7)","v":10}]
[6,"Joe Turner","The Dairymen of Stradbrook",{"$f":"HLOOKUP(B8,February!$I$1:$BE$54,54,FALSE)","v":4},{"$f":"HLOOKUP(B8,March!$I$1:$BE$42,42,FALSE)","v":0},{"$f":"HLOOKUP(B8,'July & August'!$I$1:$BE$60,60,FALSE)","v":3},{"$f":"HLOOKUP(B8,September!$I$1:$BE$44,44,FALSE)","v":3},{"$f":"HLOOKUP(B8,October!$I$1:$BE$50,50,FALSE)","v":0},{"$f":"SUM(D8:H8)","v":10}]
[7,"Tom Keane","Hoopshoops",{"$f":"HLOOKUP(B9,February!$I$1:$BE$54,54,FALSE)","v":3},{"$f":"HLOOKUP(B9,March!$I$1:$BE$42,42,FALSE)","v":0},{"$f":"HLOOKUP(B9,'July & August'!$I$1:$BE$60,60,FALSE)","v":4},{"$f":"HLOOKUP(B9,September!$I$1:$BE$44,44,FALSE)","v":3},{"$f":"HLOOKUP(B9,October!$I$1:$BE$50,50,FALSE)","v":0},{"$f":"SUM(D9:H9)","v":10}]
[8,"Alan Doyle","Shamrock Ravers",{"$f":"HLOOKUP(B10,February!$I$1:$BE$54,54,FALSE)","v":3},{"$f":"HLOOKUP(B10,March!$I$1:$BE$42,42,FALSE)","v":0},{"$f":"HLOOKUP(B10,'July & August'!$I$1:$BE$60,60,FALSE)","v":3},{"$f":"HLOOKUP(B10,September!$I$1:$BE$44,44,FALSE)","v":3},{"$f":"HLOOKUP(B10,October!$I$1:$BE$50,50,FALSE)","v":0},{"$f":"SUM(D10:H10)","v":9}]
[9,"Andy Dunne","Ballymore Shamrocks",{"$f":"HLOOKUP(B11,February!$I$1:$BE$54,54,FALSE)","v":1},{"$f":"HLOOKUP(B11,March!$I$1:$BE$42,42,FALSE)","v":1},{"$f":"HLOOKUP(B11,'July & August'!$I$1:$BE$60,60,FALSE)","v":2},{"$f":"HLOOKUP(B11,September!$I$1:$BE$44,44,FALSE)","v":5},{"$f":"HLOOKUP(B11,October!$I$1:$BE$50,50,FALSE)","v":0},{"$f":"SUM(D11:H11)","v":9}]
[10,"Keith Ryan","Wearethewanderers",{"$f":"HLOOKUP(B12,February!$I$1:$BE$54,54,FALSE)","v":3},{"$f":"HLOOKUP(B12,March!$I$1:$BE$42,42,FALSE)","v":0},{"$f":"HLOOKUP(B12,'July & August'!$I$1:$BE$60,60,FALSE)","v":4},{"$f":"HLOOKUP(B12,September!$I$1:$BE$44,44,FALSE)","v":1},{"$f":"HLOOKUP(B12,October!$I$1:$BE$50,50,FALSE)","v":1},{"$f":"SUM(D12:H12)","v":9}]
[11,"Paul Moore","Niall Quinn's Disco Pants",{"$f":"HLOOKUP(B13,February!$I$1:$BE$54,54,FALSE)","v":3},{"$f":"HLOOKUP(B13,March!$I$1:$BE$42,42,FALSE)","v":0},{"$f":"HLOOKUP(B13,'July & August'!$I$1:$BE$60,60,FALSE)","v":2},{"$f":"HLOOKUP(B13,September!$I$1:$BE$44,44,FALSE)","v":2},{"$f":"HLOOKUP(B13,October!$I$1:$BE$50,50,FALSE)","v":2},{"$f":"SUM(D13:H13)","v":9}]
[12,"Darragh Kenny","Luca Connell CSC",{"$f":"HLOOKUP(B14,February!$I$1:$BE$54,54,FALSE)","v":2},{"$f":"HLOOKUP(B14,March!$I$1:$BE$42,42,FALSE)","v":0},{"$f":"HLOOKUP(B14,'July & August'!$I$1:$BE$60,60,FALSE)","v":5},{"$f":"HLOOKUP(B14,September!$I$1:$BE$44,44,FALSE)","v":1},{"$f":"HLOOKUP(B14,October!$I$1:$BE$50,50,FALSE)","v":0},{"$f":"SUM(D14:H14)","v":8}]
[13,"Derek McDonald","Super Shels",{"$f":"HLOOKUP(B15,February!$I$1:$BE$54,54,FALSE)","v":2},{"$f":"HLOOKUP(B15,March!$I$1:$BE$42,42,FALSE)","v":0},{"$f":"HLOOKUP(B15,'July & August'!$I$1:$BE$60,60,FALSE)","v":3},{"$f":"HLOOKUP(B15,September!$I$1:$BE$44,44,FALSE)","v":1},{"$f":"HLOOKUP(B15,October!$I$1:$BE$50,50,FALSE)","v":2},{"$f":"SUM(D15:H15)","v":8}]
[14,"Gary Donnelly","Cabinteely II",{"$f":"HLOOKUP(B16,February!$I$1:$BE$54,54,FALSE)","v":1},{"$f":"HLOOKUP(B16,March!$I$1:$BE$42,42,FALSE)","v":0},{"$f":"HLOOKUP(B16,'July & August'!$I$1:$BE$60,60,FALSE)","v":4},{"$f":"HLOOKUP(B16,September!$I$1:$BE$44,44,FALSE)","v":3},{"$f":"HLOOKUP(B16,October!$I$1:$BE$50,50,FALSE)","v":0},{"$f":"SUM(D16:H16)","v":8}]
[15,"Gary McGurk","Chelfest 2013",{"$f":"HLOOKUP(B17,February!$I$1:$BE$54,54,FALSE)","v":3},{"$f":"HLOOKUP(B17,March!$I$1:$BE$42,42,FALSE)","v":1},{"$f":"HLOOKUP(B17,'July & August'!$I$1:$BE$60,60,FALSE)","v":2},{"$f":"HLOOKUP(B17,September!$I$1:$BE$44,44,FALSE)","v":1},{"$f":"HLOOKUP(B17,October!$I$1:$BE$50,50,FALSE)","v":1},{"$f":"SUM(D17:H17)","v":8}]
[16,"Mark Welsh","3rdina2horserace",{"$f":"HLOOKUP(B18,February!$I$1:$BE$54,54,FALSE)","v":2},{"$f":"HLOOKUP(B18,March!$I$1:$BE$42,42,FALSE)","v":1},{"$f":"HLOOKUP(B18,'July & August'!$I$1:$BE$60,60,FALSE)","v":4},{"$f":"HLOOKUP(B18,September!$I$1:$BE$44,44,FALSE)","v":1},{"$f":"HLOOKUP(B18,October!$I$1:$BE$50,50,FALSE)","v":0},{"$f":"SUM(D18:H18)","v":8}]
[17,"Niall Carroll","The Yellow Bellies",{"$f":"HLOOKUP(B19,February!$I$1:$BE$54,54,FALSE)","v":4},{"$f":"HLOOKUP(B19,March!$I$1:$BE$42,42,FALSE)","v":0},{"$f":"HLOOKUP(B19,'July & August'!$I$1:$BE$60,60,FALSE)","v":0},{"$f":"HLOOKUP(B19,September!$I$1:$BE$44,44,FALSE)","v":4},{"$f":"HLOOKUP(B19,October!$I$1:$BE$50,50,FALSE)","v":0},{"$f":"SUM(D19:H19)","v":8}]
[18,"Ciaran O'Hart","Riverchapel Plate",{"$f":"HLOOKUP(B20,February!$I$1:$BE$54,54,FALSE)","v":3},{"$f":"HLOOKUP(B20,March!$I$1:$BE$42,42,FALSE)","v":0},{"$f":"HLOOKUP(B20,'July & August'!$I$1:$BE$60,60,FALSE)","v":2},{"$f":"HLOOKUP(B20,September!$I$1:$BE$44,44,FALSE)","v":2},{"$f":"HLOOKUP(B20,October!$I$1:$BE$50,50,FALSE)","v":0},{"$f":"SUM(D20:H20)","v":7}]
[19,"David Moran","Wrightsaidfred",{"$f":"HLOOKUP(B21,February!$I$1:$BE$54,54,FALSE)","v":1},{"$f":"HLOOKUP(B21,March!$I$1:$BE$42,42,FALSE)","v":1},{"$f":"HLOOKUP(B21,'July & August'!$I$1:$BE$60,60,FALSE)","v":3},{"$f":"HLOOKUP(B21,September!$I$1:$BE$44,44,FALSE)","v":2},{"$f":"HLOOKUP(B21,October!$I$1:$BE$50,50,FALSE)","v":0},{"$f":"SUM(D21:H21)","v":7}]
[20,"Gerry Moore","Rovers Are Red",{"$f":"HLOOKUP(B22,February!$I$1:$BE$54,54,FALSE)","v":2},{"$f":"HLOOKUP(B22,March!$I$1:$BE$42,42,FALSE)","v":1},{"$f":"HLOOKUP(B22,'July & August'!$I$1:$BE$60,60,FALSE)","v":3},{"$f":"HLOOKUP(B22,September!$I$1:$BE$44,44,FALSE)","v":1},{"$f":"HLOOKUP(B22,October!$I$1:$BE$50,50,FALSE)","v":0},{"$f":"SUM(D22:H22)","v":7}]
[21,"Sean Taylor","O'Connor's Touting XI",{"$f":"HLOOKUP(B23,February!$I$1:$BE$54,54,FALSE)","v":0},{"$f":"HLOOKUP(B23,March!$I$1:$BE$42,42,FALSE)","v":0},{"$f":"HLOOKUP(B23,'July & August'!$I$1:$BE$60,60,FALSE)","v":3},{"$f":"HLOOKUP(B23,September!$I$1:$BE$44,44,FALSE)","v":4},{"$f":"HLOOKUP(B23,October!$I$1:$BE$50,50,FALSE)","v":0},{"$f":"SUM(D23:H23)","v":7}]
[22,"Callum Dunne","Derry Girls",{"$f":"HLOOKUP(B24,February!$I$1:$BE$54,54,FALSE)","v":2},{"$f":"HLOOKUP(B24,March!$I$1:$BE$42,42,FALSE)","v":0},{"$f":"HLOOKUP(B24,'July & August'!$I$1:$BE$60,60,FALSE)","v":3},{"$f":"HLOOKUP(B24,September!$I$1:$BE$44,44,FALSE)","v":1},{"$f":"HLOOKUP(B24,October!$I$1:$BE$50,50,FALSE)","v":0},{"$f":"SUM(D24:H24)","v":6}]
[23,"Davy Doyle","Whitechurch FC",{"$f":"HLOOKUP(B25,February!$I$1:$BE$54,54,FALSE)","v":1},{"$f":"HLOOKUP(B25,March!$I$1:$BE$42,42,FALSE)","v":1},{"$f":"HLOOKUP(B25,'July & August'!$I$1:$BE$60,60,FALSE)","v":3},{"$f":"HLOOKUP(B25,September!$I$1:$BE$44,44,FALSE)","v":1},{"$f":"HLOOKUP(B25,October!$I$1:$BE$50,50,FALSE)","v":0},{"$f":"SUM(D25:H25)","v":6}]
[24,"Eoghan Farrelly","Definitely Last Chance Saloon",{"$f":"HLOOKUP(B26,February!$I$1:$BE$54,54,FALSE)","v":1},{"$f":"HLOOKUP(B26,March!$I$1:$BE$42,42,FALSE)","v":1},{"$f":"HLOOKUP(B26,'July & August'!$I$1:$BE$60,60,FALSE)","v":3},{"$f":"HLOOKUP(B26,September!$I$1:$BE$44,44,FALSE)","v":1},{"$f":"HLOOKUP(B26,October!$I$1:$BE$50,50,FALSE)","v":0},{"$f":"SUM(D26:H26)","v":6}]
[25,"Jay Thomas","Tallaght Toppers",{"$f":"HLOOKUP(B27,February!$I$1:$BE$54,54,FALSE)","v":2},{"$f":"HLOOKUP(B27,March!$I$1:$BE$42,42,FALSE)","v":0},{"$f":"HLOOKUP(B27,'July & August'!$I$1:$BE$60,60,FALSE)","v":2},{"$f":"HLOOKUP(B27,September!$I$1:$BE$44,44,FALSE)","v":2},{"$f":"HLOOKUP(B27,October!$I$1:$BE$50,50,FALSE)","v":0},{"$f":"SUM(D27:H27)","v":6}]
[26,"John Brophy","We're Not Shels",{"$f":"HLOOKUP(B28,February!$I$1:$BE$54,54,FALSE)","v":2},{"$f":"HLOOKUP(B28,March!$I$1:$BE$42,42,FALSE)","v":0},{"$f":"HLOOKUP(B28,'July & August'!$I$1:$BE$60,60,FALSE)","v":0},{"$f":"HLOOKUP(B28,September!$I$1:$BE$44,44,FALSE)","v":3},{"$f":"HLOOKUP(B28,October!$I$1:$BE$50,50,FALSE)","v":1},{"$f":"SUM(D28:H28)","v":6}]
[27,"Sean O'Mairtin","EMFA Returns",{"$f":"HLOOKUP(B29,February!$I$1:$BE$54,54,FALSE)","v":2},{"$f":"HLOOKUP(B29,March!$I$1:$BE$42,42,FALSE)","v":1},{"$f":"HLOOKUP(B29,'July & August'!$I$1:$BE$60,60,FALSE)","v":1},{"$f":"HLOOKUP(B29,September!$I$1:$BE$44,44,FALSE)","v":0},{"$f":"HLOOKUP(B29,October!$I$1:$BE$50,50,FALSE)","v":2},{"$f":"SUM(D29:H29)","v":6}]
[28,"Trevor Rankin","Trev's Tossers",{"$f":"HLOOKUP(B30,February!$I$1:$BE$54,54,FALSE)","v":2},{"$f":"HLOOKUP(B30,March!$I$1:$BE$42,42,FALSE)","v":0},{"$f":"HLOOKUP(B30,'July & August'!$I$1:$BE$60,60,FALSE)","v":2},{"$f":"HLOOKUP(B30,September!$I$1:$BE$44,44,FALSE)","v":2},{"$f":"HLOOKUP(B30,October!$I$1:$BE$50,50,FALSE)","v":0},{"$f":"SUM(D30:H30)","v":6}]
[29,"Derek Kelly","SRFC1725",{"$f":"HLOOKUP(B31,February!$I$1:$BE$54,54,FALSE)","v":3},{"$f":"HLOOKUP(B31,March!$I$1:$BE$42,42,FALSE)","v":0},{"$f":"HLOOKUP(B31,'July & August'!$I$1:$BE$60,60,FALSE)","v":2},{"$f":"HLOOKUP(B31,September!$I$1:$BE$44,44,FALSE)","v":0},{"$f":"HLOOKUP(B31,October!$I$1:$BE$50,50,FALSE)","v":0},{"$f":"SUM(D31:H31)","v":5}]
[30,"Eoghan Brophy","Tolka Dreamers",{"$f":"HLOOKUP(B32,February!$I$1:$BE$54,54,FALSE)","v":3},{"$f":"HLOOKUP(B32,March!$I$1:$BE$42,42,FALSE)","v":0},{"$f":"HLOOKUP(B32,'July & August'!$I$1:$BE$60,60,FALSE)","v":1},{"$f":"HLOOKUP(B32,September!$I$1:$BE$44,44,FALSE)","v":1},{"$f":"HLOOKUP(B32,October!$I$1:$BE$50,50,FALSE)","v":0},{"$f":"SUM(D32:H32)","v":5}]
[31,"Gearoid McIntyre","Nobber Boys",{"$f":"HLOOKUP(B33,February!$I$1:$BE$54,54,FALSE)","v":2},{"$f":"HLOOKUP(B33,March!$I$1:$BE$42,42,FALSE)","v":1},{"$f":"HLOOKUP(B33,'July & August'!$I$1:$BE$60,60,FALSE)","v":2},{"$f":"HLOOKUP(B33,September!$I$1:$BE$44,44,FALSE)","v":0},{"$f":"HLOOKUP(B33,October!$I$1:$BE$50,50,FALSE)","v":0},{"$f":"SUM(D33:H33)","v":5}]
[32,"Ian O'Reilly","Limerick City United Treaty 37 FC",{"$f":"HLOOKUP(B34,February!$I$1:$BE$54,54,FALSE)","v":3},{"$f":"HLOOKUP(B34,March!$I$1:$BE$42,42,FALSE)","v":1},{"$f":"HLOOKUP(B34,'July & August'!$I$1:$BE$60,60,FALSE)","v":1},{"$f":"HLOOKUP(B34,September!$I$1:$BE$44,44,FALSE)","v":0},{"$f":"HLOOKUP(B34,October!$I$1:$BE$50,50,FALSE)","v":0},{"$f":"SUM(D34:H34)","v":5}]
[33,"Kieran Harnett","Limerick United",{"$f":"HLOOKUP(B35,February!$I$1:$BE$54,54,FALSE)","v":3},{"$f":"HLOOKUP(B35,March!$I$1:$BE$42,42,FALSE)","v":0},{"$f":"HLOOKUP(B35,'July & August'!$I$1:$BE$60,60,FALSE)","v":2},{"$f":"HLOOKUP(B35,September!$I$1:$BE$44,44,FALSE)","v":0},{"$f":"HLOOKUP(B35,October!$I$1:$BE$50,50,FALSE)","v":0},{"$f":"SUM(D35:H35)","v":5}]
[34,"Richard Johnston","Mayo For Sam",{"$f":"HLOOKUP(B36,February!$I$1:$BE$54,54,FALSE)","v":3},{"$f":"HLOOKUP(B36,March!$I$1:$BE$42,42,FALSE)","v":1},{"$f":"HLOOKUP(B36,'July & August'!$I$1:$BE$60,60,FALSE)","v":1},{"$f":"HLOOKUP(B36,September!$I$1:$BE$44,44,FALSE)","v":0},{"$f":"HLOOKUP(B36,October!$I$1:$BE$50,50,FALSE)","v":0},{"$f":"SUM(D36:H36)","v":5}]
[35,"Tommy Hamill","Omeath Allstars",{"$f":"HLOOKUP(B37,February!$I$1:$BE$54,54,FALSE)","v":1},{"$f":"HLOOKUP(B37,March!$I$1:$BE$42,42,FALSE)","v":1},{"$f":"HLOOKUP(B37,'July & August'!$I$1:$BE$60,60,FALSE)","v":2},{"$f":"HLOOKUP(B37,September!$I$1:$BE$44,44,FALSE)","v":1},{"$f":"HLOOKUP(B37,October!$I$1:$BE$50,50,FALSE)","v":0},{"$f":"SUM(D37:H37)","v":5}]
[36,"Aidan Scanlon","Kilflynn Santos",{"$f":"HLOOKUP(B38,February!$I$1:$BE$54,54,FALSE)","v":3},{"$f":"HLOOKUP(B38,March!$I$1:$BE$42,42,FALSE)","v":0},{"$f":"HLOOKUP(B38,'July & August'!$I$1:$BE$60,60,FALSE)","v":0},{"$f":"HLOOKUP(B38,September!$I$1:$BE$44,44,FALSE)","v":1},{"$f":"HLOOKUP(B38,October!$I$1:$BE$50,50,FALSE)","v":0},{"$f":"SUM(D38:H38)","v":4}]
[37,"Chris Hinchey","Lilywhites",{"$f":"HLOOKUP(B39,February!$I$1:$BE$54,54,FALSE)","v":2},{"$f":"HLOOKUP(B39,March!$I$1:$BE$42,42,FALSE)","v":0},{"$f":"HLOOKUP(B39,'July & August'!$I$1:$BE$60,60,FALSE)","v":2},{"$f":"HLOOKUP(B39,September!$I$1:$BE$44,44,FALSE)","v":0},{"$f":"HLOOKUP(B39,October!$I$1:$BE$50,50,FALSE)","v":0},{"$f":"SUM(D39:H39)","v":4}]
[38,"David Miley","Dallas Cowboys",{"$f":"HLOOKUP(B40,February!$I$1:$BE$54,54,FALSE)","v":1},{"$f":"HLOOKUP(B40,March!$I$1:$BE$42,42,FALSE)","v":0},{"$f":"HLOOKUP(B40,'July & August'!$I$1:$BE$60,60,FALSE)","v":2},{"$f":"HLOOKUP(B40,September!$I$1:$BE$44,44,FALSE)","v":1},{"$f":"HLOOKUP(B40,October!$I$1:$BE$50,50,FALSE)","v":0},{"$f":"SUM(D40:H40)","v":4}]
[39,"Dean Fletcher","Fletchy's Flyers",{"$f":"HLOOKUP(B41,February!$I$1:$BE$54,54,FALSE)","v":2},{"$f":"HLOOKUP(B41,March!$I$1:$BE$42,42,FALSE)","v":0},{"$f":"HLOOKUP(B41,'July & August'!$I$1:$BE$60,60,FALSE)","v":2},{"$f":"HLOOKUP(B41,September!$I$1:$BE$44,44,FALSE)","v":0},{"$f":"HLOOKUP(B41,October!$I$1:$BE$50,50,FALSE)","v":0},{"$f":"SUM(D41:H41)","v":4}]
[40,"Gary Keating","Brohemians",{"$f":"HLOOKUP(B42,February!$I$1:$BE$54,54,FALSE)","v":2},{"$f":"HLOOKUP(B42,March!$I$1:$BE$42,42,FALSE)","v":0},{"$f":"HLOOKUP(B42,'July & August'!$I$1:$BE$60,60,FALSE)","v":1},{"$f":"HLOOKUP(B42,September!$I$1:$BE$44,44,FALSE)","v":1},{"$f":"HLOOKUP(B42,October!$I$1:$BE$50,50,FALSE)","v":0},{"$f":"SUM(D42:H42)","v":4}]
[41,"Joe Behan","Melchester Rovers",{"$f":"HLOOKUP(B43,February!$I$1:$BE$54,54,FALSE)","v":1},{"$f":"HLOOKUP(B43,March!$I$1:$BE$42,42,FALSE)","v":0},{"$f":"HLOOKUP(B43,'July & August'!$I$1:$BE$60,60,FALSE)","v":1},{"$f":"HLOOKUP(B43,September!$I$1:$BE$44,44,FALSE)","v":1},{"$f":"HLOOKUP(B43,October!$I$1:$BE$50,50,FALSE)","v":1},{"$f":"SUM(D43:H43)","v":4}]
[42,"Josh Tobin","Team1",{"$f":"HLOOKUP(B44,February!$I$1:$BE$54,54,FALSE)","v":2},{"$f":"HLOOKUP(B44,March!$I$1:$BE$42,42,FALSE)","v":0},{"$f":"HLOOKUP(B44,'July & August'!$I$1:$BE$60,60,FALSE)","v":2},{"$f":"HLOOKUP(B44,September!$I$1:$BE$44,44,FALSE)","v":0},{"$f":"HLOOKUP(B44,October!$I$1:$BE$50,50,FALSE)","v":0},{"$f":"SUM(D44:H44)","v":4}]
[43,"Fiachra O'Brolachain","Trailerpark Rovers",{"$f":"HLOOKUP(B45,February!$I$1:$BE$54,54,FALSE)","v":2},{"$f":"HLOOKUP(B45,March!$I$1:$BE$42,42,FALSE)","v":0},{"$f":"HLOOKUP(B45,'July & August'!$I$1:$BE$60,60,FALSE)","v":1},{"$f":"HLOOKUP(B45,September!$I$1:$BE$44,44,FALSE)","v":0},{"$f":"HLOOKUP(B45,October!$I$1:$BE$50,50,FALSE)","v":0},{"$f":"SUM(D45:H45)","v":3}]
[44,"Gerry Draper","Everton10",{"$f":"HLOOKUP(B46,February!$I$1:$BE$54,54,FALSE)","v":1},{"$f":"HLOOKUP(B46,March!$I$1:$BE$42,42,FALSE)","v":0},{"$f":"HLOOKUP(B46,'July & August'!$I$1:$BE$60,60,FALSE)","v":1},{"$f":"HLOOKUP(B46,September!$I$1:$BE$44,44,FALSE)","v":1},{"$f":"HLOOKUP(B46,October!$I$1:$BE$50,50,FALSE)","v":0},{"$f":"SUM(D46:H46)","v":3}]
[45,"Breifne Earley","Leitrim Villa",{"$f":"HLOOKUP(B47,February!$I$1:$BE$54,54,FALSE)","v":1},{"$f":"HLOOKUP(B47,March!$I$1:$BE$42,42,FALSE)","v":0},{"$f":"HLOOKUP(B47,'July & August'!$I$1:$BE$60,60,FALSE)","v":1},{"$f":"HLOOKUP(B47,September!$I$1:$BE$44,44,FALSE)","v":0},{"$f":"HLOOKUP(B47,October!$I$1:$BE$50,50,FALSE)","v":0},{"$f":"SUM(D47:H47)","v":2}]
[46,"Patrick Dempsey","Paddser's Whackers",{"$f":"HLOOKUP(B48,February!$I$1:$BE$54,54,FALSE)","v":0},{"$f":"HLOOKUP(B48,March!$I$1:$BE$42,42,FALSE)","v":0},{"$f":"HLOOKUP(B48,'July & August'!$I$1:$BE$60,60,FALSE)","v":1},{"$f":"HLOOKUP(B48,September!$I$1:$BE$44,44,FALSE)","v":0},{"$f":"HLOOKUP(B48,October!$I$1:$BE$50,50,FALSE)","v":0},{"$f":"SUM(D48:H48)","v":1}]
[47,"Seamus McGowan","Bit O'Red",{"$f":"HLOOKUP(B49,February!$I$1:$BE$54,54,FALSE)","v":0},{"$f":"HLOOKUP(B49,March!$I$1:$BE$42,42,FALSE)","v":1},{"$f":"HLOOKUP(B49,'July & August'!$I$1:$BE$60,60,FALSE)","v":0},{"$f":"HLOOKUP(B49,September!$I$1:$BE$44,44,FALSE)","v":0},{"$f":"HLOOKUP(B49,October!$I$1:$BE$50,50,FALSE)","v":0},{"$f":"SUM(D49:H49)","v":1}]
[48,"Sean Keller","The Boys From Dalymount",{"$f":"HLOOKUP(B50,February!$I$1:$BE$54,54,FALSE)","v":1},{"$f":"HLOOKUP(B50,March!$I$1:$BE$42,42,FALSE)","v":0},{"$f":"HLOOKUP(B50,'July & August'!$I$1:$BE$60,60,FALSE)","v":0},{"$f":"HLOOKUP(B50,September!$I$1:$BE$44,44,FALSE)","v":0},{"$f":"HLOOKUP(B50,October!$I$1:$BE$50,50,FALSE)","v":0},{"$f":"SUM(D50:H50)","v":1}]
[49,"Hugh Keller","Hugh Jarse FC",{"$f":"HLOOKUP(B51,February!$I$1:$BE$54,54,FALSE)","v":0},{"$f":"HLOOKUP(B51,March!$I$1:$BE$42,42,FALSE)","v":0},{"$f":"HLOOKUP(B51,'July & August'!$I$1:$BE$60,60,FALSE)","v":0},{"$f":"HLOOKUP(B51,September!$I$1:$BE$44,44,FALSE)","v":0},{"$f":"HLOOKUP(B51,October!$I$1:$BE$50,50,FALSE)","v":0},{"$f":"SUM(D51:H51)","v":0}]

{"sheet":"Jokers","index":7,"n_rows":50,"n_cols":20,"rows_kept":50,"cut":false,"hidden":false,"merged":[]}
["No.","Player","Team Name","Joker",1,2,3,4,5,6,7,8,9,10,11,12,13,14,15,"Total"]
[1,"Aidan Scanlon","Kilflynn Santos","2-0","a",null,null,null,null,null,null,null,null,null,null,null,null,null,null,{"$f":"COUNTIF(E2:S2,\"a\")","v":1}]
[2,"Alan Doyle","Shamrock Ravers",null,null,null,null,null,null,null,null,null,null,null,null,null,null,null,null,0]
[3,"Andy Dunne","Ballymore Shamrocks","2-1","a","a","a",null,null,null,null,null,null,null,null,null,null,null,null,3]
[4,"Breifne Earley","Leitrim Villa","2-0","a","a","a","a","a","a","a","a","a","a","a","a","a","a","a",15]
[5,"Callum Dunne","Derry Girls","2-1","a","a","a","a","a","a","a","a","a","a","a","a","a","a","a",15]
[6,"Caroline Carroll","Tarzan's 11","2-0","a","a","a","a",null,null,null,null,null,null,null,null,null,null,null,4]
[7,"Chris Hinchey","Lilywhites","2-0","a","a","a","a","a","a","a","a","a","a","a","a","a","a","a",15]
[8,"Ciaran O'Hart","Riverchapel Plate","1-1","a","a","a","a","a",null,null,null,null,null,null,null,null,null,null,5]
[9,"Darragh Kenny","Luca Connell CSC",null,null,null,null,null,null,null,null,null,null,null,null,null,null,null,null,0]
[10,"David Miley","Dallas Cowboys",null,null,null,null,null,null,null,null,null,null,null,null,null,null,null,null,0]
[11,"David Moran","Wrightsaidfred","2-0","a","a","a","a","a","a","a","a","a","a","a","a","a","a","a",15]
[12,"Davy Doyle","Whitechurch FC","2-1","a",null,null,null,null,null,null,null,null,null,null,null,null,null,null,1]
[13,"Dean Fletcher","Fletchy's Flyers",null,null,null,null,null,null,null,null,null,null,null,null,null,null,null,null,0]
[14,"Derek Kelly","SRFC1725",null,null,null,null,null,null,null,null,null,null,null,null,null,null,null,null,0]
[15,"Derek McDonald","Super Shels","2-0","a","a","a","a","a","a","a","a","a","a","a",null,null,null,null,11]
[16,"Eamon Fox","Culchies United",null,null,null,null,null,null,null,null,null,null,null,null,null,null,null,null,0]
[17,"Eoghan Brophy","Tolka Dreamers",null,null,null,null,null,null,null,null,null,null,null,null,null,null,null,null,0]
[18,"Eoghan Farrelly","Definitely Last Chance Saloon","1-0","a","a","a","a","a","a","a","a","a","a","a","a","a","a","a",15]
[19,"Fiachra O'Brolachain","Trailerpark Rovers",null,null,null,null,null,null,null,null,null,null,null,null,null,null,null,null,0]
[20,"Gary Donnelly","Cabinteely II","2-1","a","a","a","a","a",null,null,null,null,null,null,null,null,null,null,5]
[21,"Gary Fitzpatrick","Cabo Ultra's",null,null,null,null,null,null,null,null,null,null,null,null,null,null,null,null,0]
[22,"Gary Keating","Brohemians","2-1","a","a","a","a","a",null,null,null,null,null,null,null,null,null,null,5]
[23,"Gary McGurk","Chelfest 2013","1-0","a","a","a","a",null,null,null,null,null,null,null,null,null,null,null,4]
[24,"Gearoid McIntyre","Nobber Boys",null,null,null,null,null,null,null,null,null,null,null,null,null,null,null,null,0]
[25,"Gerry Draper","Everton10","2-0","a","a","a","a","a",null,null,null,null,null,null,null,null,null,null,5]
[26,"Gerry Moore","Rovers Are Red","2-1","a","a","a","a","a",null,null,null,null,null,null,null,null,null,null,5]
[27,"Graeme Buckley","Canyoneroes","1-0","a","a","a","a","a","a","a","a",null,null,null,null,null,null,null,8]
[28,"Hugh Keller","Hugh Jarse FC","2-1","a","a","a","a","a","a","a","a","a","a","a","a","a","a","a",15]
[29,"Ian O'Reilly","Limerick City United Treaty 37 FC","2-1","a","a","a","a","a","a","a","a","a","a","a","a","a","a","a",15]
[30,"Jay Thomas","Tallaght Toppers","2-1","a","a","a","a","a",null,null,null,null,null,null,null,null,null,null,5]
[31,"Joe Behan","Melchester Rovers",null,null,null,null,null,null,null,null,null,null,null,null,null,null,null,null,0]
[32,"Joe Turner","The Dairymen of Stradbrook",null,null,null,null,null,null,null,null,null,null,null,null,null,null,null,null,0]
[33,"John Brophy","We're Not Shels","0-0","a",null,null,null,null,null,null,null,null,null,null,null,null,null,null,1]
[34,"Joseph Kavanagh","Joey's Invincibles",null,null,null,null,null,null,null,null,null,null,null,null,null,null,null,null,0]
[35,"Josh Tobin","Team1","0-1","a","a","a","a","a","a","a","a","a","a","a","a","a","a","a",15]
[36,"Keith Ryan","Wearethewanderers",null,null,null,null,null,null,null,null,null,null,null,null,null,null,null,null,0]
[37,"Kieran Harnett","Limerick United","2-0","a","a","a","a","a","a","a","a","a","a","a","a","a","a","a",15]
[38,"Mark Welsh","3rdina2horserace","1-3","a","a","a","a","a","a","a","a","a","a","a",null,null,null,null,11]
[39,"Niall Carroll","The Yellow Bellies","2-1","a","a","a","a",null,null,null,null,null,null,null,null,null,null,null,4]
[40,"Patrick Dempsey","Paddser's Whackers","3-1","a","a","a","a","a","a","a","a","a","a","a","a","a","a","a",15]
[41,"Paul Moore","Niall Quinn's Disco Pants",null,null,null,null,null,null,null,null,null,null,null,null,null,null,null,null,0]
[42,"Richard Johnston","Mayo For Sam","2-1","a","a","a","a","a","a","a","a","a","a","a","a","a","a","a",15]
[43,"Seamus McGowan","Bit O'Red","2-1","a","a","a","a","a","a","a","a","a","a","a","a","a","a","a",15]
[44,"Sean Keller","The Boys From Dalymount","0-3","a","a","a","a","a","a","a","a","a","a","a","a","a","a","a",15]
[45,"Sean O'Mairtin","EMFA Returns","2-0","a","a","a","a","a","a","a",null,null,null,null,null,null,null,null,7]
[46,"Sean Taylor","O'Connor's Touting XI","2-1","a","a","a","a","a","a","a","a","a","a","a","a","a","a",null,14]
[47,"Tom Keane","Hoopshoops","3-1","a","a","a","a","a",null,null,null,null,null,null,null,null,null,null,5]
[48,"Tommy Hamill","Omeath Allstars","2-1","a","a","a","a","a","a",null,null,null,null,null,null,null,null,null,6]
[49,"Trevor Rankin","Trev's Tossers","2-1","a","a","a","a","a","a","a","a","a","a","a",null,null,null,null,11]